BEGIN:VCALENDAR
VERSION:2.0
PRODID:-//ChamberMaster//Event Calendar 2.0//EN
METHOD:PUBLISH
X-PUBLISHED-TTL:P3D
REFRESH-INTERVAL:P3D
CALSCALE:GREGORIAN
BEGIN:VEVENT
DTSTART:20190213T150000Z
DTEND:20190213T170000Z
X-MICROSOFT-CDO-ALLDAYEVENT:FALSE
SUMMARY:2019 February 13 Amplify your Digital Marketing in 2019
DESCRIPTION:Amplify your Digital Marketing in 2019!\n\n\n\nby Bankers Title & Bankers Closing Services\n\n \nHear from OneShot Media\, one of Minnesota's leading real estate showcasing companies\, on how to maximize your digital real estate marketing in 2019.\n\nOneShot Media specializes in:\n\n\n	\n	Premium Still Photography\n	\n	\n	Matterport 3D Virtual Tours\n	\n	\n	Drone Photos & Videos\n	\n	\n	Lifestyle Videos\n	\n	\n	Schematic Floor Plans\n	\n	\n	3D Floor Plans\n	\n	\n	Property Websites\n	\n	\n	Google Virtual Tour Publishing\n	\n\n\n \n\nHow could digital marketing take your Real Estate career to the next level?\n\nRSVP to Eventbrite or email Maddi@BankersClosing.com.
X-ALT-DESC;FMTTYPE=text/html:<h1 class="listing-hero-title" data-automation="listing-title" style="margin: 0px auto\; padding: 0px 0px 2px\; font-size: 20px\; display: -webkit-box\; -webkit-line-clamp: 4\; -webkit-box-orient: vertical\; overflow: hidden\; text-overflow: ellipsis\; color: rgb(30\, 10\, 60)\; font-weight: 600\; line-height: 21px\; letter-spacing: 0.5px\; word-break: break-word\; font-family: &quot\;Neue Plak&quot\;\, -apple-system\, BlinkMacSystemFont\, Roboto\, &quot\;Helvetica Neue&quot\;\, Helvetica\, Tahoma\, Arial\, sans-serif\; background-color: rgba(255\, 255\, 255\, 0.9)\;">Amplify your Digital Marketing in 2019!</h1>\n\n<div class="l-mar-top-3" style="margin: 15px 0px 0px\; padding: 0px\; color: rgb(57\, 54\, 79)\; font-family: &quot\;Neue Plak&quot\;\, -apple-system\, BlinkMacSystemFont\, Roboto\, &quot\;Helvetica Neue&quot\;\, Helvetica\, Tahoma\, Arial\, sans-serif\; font-size: 15px\; letter-spacing: 0.5px\; background-color: rgba(255\, 255\, 255\, 0.9)\;">\n<div class="l-media clrfix listing-organizer-title" style="margin: 0px\; padding: 0px\;">\n<div class="l-align-left" style="margin: 0px 10px 0px 0px\; padding: 0px\; overflow: visible\; zoom: 1\; float: left\;"><a class="js-d-scroll-to listing-organizer-name text-default" data-d-destination="#listing-organizer" data-d-duration="1500" data-d-offset="-70" data-xd-wired="scroll-to" dorsal-guid="281df8d4-4b2b-119d-b36a-ecbbdc951370" href="https://www.eventbrite.com/e/amplify-your-digital-marketing-in-2019-tickets-54712157536#listing-organizer" style="color: rgb(111\, 114\, 135)\; text-decoration-line: none\; cursor: pointer\; background-color: transparent\; font-size: 1rem\; line-height: 1.6rem\;">by Bankers Title &amp\; Bankers Closing Services</a><br />\n&nbsp\;\n<p class="para-style-body" style="margin: 0px\; padding: 0px\; color: rgb(111\, 114\, 135)\; font-family: &quot\;Neue Plak&quot\;\, -apple-system\, BlinkMacSystemFont\, Roboto\, &quot\;Helvetica Neue&quot\;\, Helvetica\, Tahoma\, Arial\, sans-serif\; font-size: 15px\; letter-spacing: 0.5px\;"><span style="padding-top: 0px\;">Hear from<a href="https://www.oneshot.media/" rel="nofollow noopener noreferrer" style="color: var(--eds-control\,#3659e3)\; text-decoration-line: none\; cursor: pointer\; background-color: transparent\; padding-top: 0px\;" target="_blank" title="One Shot Media">&nbsp\;OneShot Media\,&nbsp\;</a>one of Minnesota&#39\;s leading real estate showcasing companies\, on how to maximize your digital real estate marketing in 2019.</span></p>\n\n<p class="para-style-body" style="margin: 0px\; padding: 10px 0px 0px\; color: rgb(111\, 114\, 135)\; font-family: &quot\;Neue Plak&quot\;\, -apple-system\, BlinkMacSystemFont\, Roboto\, &quot\;Helvetica Neue&quot\;\, Helvetica\, Tahoma\, Arial\, sans-serif\; font-size: 15px\; letter-spacing: 0.5px\;"><span style="font-weight: 700\; padding-top: 0px\;">OneShot Media specializes in:</span></p>\n\n<ul style="margin: 0px\; padding-top: 10px\; padding-right: 0px\; padding-left: 2em\; list-style-position: initial\; list-style-image: initial\; color: rgb(111\, 114\, 135)\; font-family: &quot\;Neue Plak&quot\;\, -apple-system\, BlinkMacSystemFont\, Roboto\, &quot\;Helvetica Neue&quot\;\, Helvetica\, Tahoma\, Arial\, sans-serif\; font-size: 15px\; letter-spacing: 0.5px\;">\n	<li style="margin: 0px\; padding: 0px\;">\n	<h3 style="margin: 0px\; padding: 0px\; color: rgb(30\, 10\, 60)\; font-size: 17px\; line-height: 21px\;"><em style="padding-top: 0px\;">Premium Still Photography</em></h3>\n	</li>\n	<li style="margin: 0px\; padding: 5px 0px 0px\;">\n	<h3 style="margin: 0px\; padding: 0px\; color: rgb(30\, 10\, 60)\; font-size: 17px\; line-height: 21px\;"><em style="padding-top: 0px\;">Matterport 3D Virtual Tours</em></h3>\n	</li>\n	<li style="margin: 0px\; padding: 5px 0px 0px\;">\n	<h3 style="margin: 0px\; padding: 0px\; color: rgb(30\, 10\, 60)\; font-size: 17px\; line-height: 21px\;"><em style="padding-top: 0px\;">Drone Photos &amp\; Videos</em></h3>\n	</li>\n	<li style="margin: 0px\; padding: 5px 0px 0px\;">\n	<h3 style="margin: 0px\; padding: 0px\; color: rgb(30\, 10\, 60)\; font-size: 17px\; line-height: 21px\;"><em style="padding-top: 0px\;">Lifestyle Videos</em></h3>\n	</li>\n	<li style="margin: 0px\; padding: 5px 0px 0px\;">\n	<h3 style="margin: 0px\; padding: 0px\; color: rgb(30\, 10\, 60)\; font-size: 17px\; line-height: 21px\;"><em style="padding-top: 0px\;">Schematic Floor Plans</em></h3>\n	</li>\n	<li style="margin: 0px\; padding: 5px 0px 0px\;">\n	<h3 style="margin: 0px\; padding: 0px\; color: rgb(30\, 10\, 60)\; font-size: 17px\; line-height: 21px\;"><em style="padding-top: 0px\;">3D Floor Plans</em></h3>\n	</li>\n	<li style="margin: 0px\; padding: 5px 0px 0px\;">\n	<h3 style="margin: 0px\; padding: 0px\; color: rgb(30\, 10\, 60)\; font-size: 17px\; line-height: 21px\;"><em style="padding-top: 0px\;">Property Websites</em></h3>\n	</li>\n	<li style="margin: 0px\; padding: 5px 0px 0px\;">\n	<h3 style="margin: 0px\; padding: 0px\; color: rgb(30\, 10\, 60)\; font-size: 17px\; line-height: 21px\;"><em style="padding-top: 0px\;">Google Virtual Tour Publishing</em></h3>\n	</li>\n</ul>\n\n<p style="margin: 0px\; padding: 10px 0px 0px\; color: rgb(111\, 114\, 135)\; font-family: &quot\;Neue Plak&quot\;\, -apple-system\, BlinkMacSystemFont\, Roboto\, &quot\;Helvetica Neue&quot\;\, Helvetica\, Tahoma\, Arial\, sans-serif\; font-size: 15px\; letter-spacing: 0.5px\;">&nbsp\;</p>\n\n<p class="para-style-body" style="margin: 0px\; padding: 10px 0px 0px\; color: rgb(111\, 114\, 135)\; font-family: &quot\;Neue Plak&quot\;\, -apple-system\, BlinkMacSystemFont\, Roboto\, &quot\;Helvetica Neue&quot\;\, Helvetica\, Tahoma\, Arial\, sans-serif\; font-size: 15px\; letter-spacing: 0.5px\;"><span style="padding-top: 0px\;">How could digital marketing take your Real Estate career to the next level?</span></p>\n\n<p class="para-style-body" style="margin: 0px\; padding: 10px 0px 0px\; color: rgb(111\, 114\, 135)\; font-family: &quot\;Neue Plak&quot\;\, -apple-system\, BlinkMacSystemFont\, Roboto\, &quot\;Helvetica Neue&quot\;\, Helvetica\, Tahoma\, Arial\, sans-serif\; font-size: 15px\; letter-spacing: 0.5px\;"><span style="padding-top: 0px\;">RSVP to Eventbrite or email Maddi@BankersClosing.com.</span></p>\n</div>\n</div>\n</div>\n
LOCATION:Bankers Title & Bankers Closing Servicese 14300 Nicollet Ave. Burnsville\, MN 55306
UID:e.411.668561
SEQUENCE:3
DTSTAMP:20260421T123058Z
URL:https://members.burnsvillechamber.com/events/details/2019-february-13-amplify-your-digital-marketing-in-2019-668561
END:VEVENT

END:VCALENDAR
