BEGIN:VCALENDAR
VERSION:2.0
PRODID:-//ChamberMaster//Event Calendar 2.0//EN
METHOD:PUBLISH
X-PUBLISHED-TTL:P3D
REFRESH-INTERVAL:P3D
CALSCALE:GREGORIAN
BEGIN:VEVENT
DTSTART:20170208T140000Z
DTEND:20170208T150000Z
X-MICROSOFT-CDO-ALLDAYEVENT:FALSE
SUMMARY:2017 MULTI-CHAMBER AM Coffee Break 360 Communities
DESCRIPTION:Please join the Burnsville\, Apple Valley & Lakeville Chambers for the annual multi-chamber AM Coffee Break at 360 Communities.\n\n\n\n360 Communities Mission:  In the spirit of caring for our neighbors\, 360 Communities provides hope and support to people by engaging communities to prevent violence\, ensure school success and promote long-term self-sufficiency.
X-ALT-DESC;FMTTYPE=text/html:Please join the Burnsville\, Apple Valley &amp\; Lakeville Chambers for the annual multi-chamber AM Coffee Break at 360 Communities.<br />\n<br />\n360 Communities&nbsp\;Mission: &nbsp\;In the spirit of caring for our neighbors\, 360 Communities provides hope and support to people by engaging communities to prevent violence\, ensure school success and promote long-term self-sufficiency.
LOCATION:360 Communities 501 East Highway 13\, Suite 102 Burnsville\, MN 55337
UID:e.411.667127
SEQUENCE:3
DTSTAMP:20260423T042614Z
URL:https://members.burnsvillechamber.com/events/details/2017-multi-chamber-am-coffee-break-360-communities-667127
END:VEVENT

END:VCALENDAR
