BEGIN:VCALENDAR
VERSION:2.0
PRODID:-//ChamberMaster//Event Calendar 2.0//EN
METHOD:PUBLISH
X-PUBLISHED-TTL:P3D
REFRESH-INTERVAL:P3D
CALSCALE:GREGORIAN
BEGIN:VEVENT
DTSTART:20170308T140000Z
DTEND:20170308T150000Z
X-MICROSOFT-CDO-ALLDAYEVENT:FALSE
SUMMARY:2017 March AM Coffee Break @ District 191
DESCRIPTION:AM Coffee Break \n\n\n\n"Through Vision One91\, Burnsville-Eagan-Savage School District 191 has undergone a major redesign to meet the needs of today's (and tomorrow's) learners and to ensure they are future ready and community strong.  This has resulted in exciting and innovative new academic programming\, expanded use of technology and increased opportunities for students.  Buildings have also been renovated including Diamondhead Education Center (where the Chamber event will take place)\, which used to a shopping mall\, and now provides learning opportunities for newborns on up to senior citizens.  We look forward to sharing information about our redesign and also inviting Chamber members to become partners with us as we work together to provide a high-quality education and bright futures for all students"\n \n\n- Ruth Dunn / Communications Director
X-ALT-DESC;FMTTYPE=text/html:AM Coffee Break&nbsp\;<br />\n<br />\n&quot\;Through Vision One91\, Burnsville-Eagan-Savage School District 191 has undergone a major redesign to meet the needs of today&#39\;s (and tomorrow&#39\;s) learners and to ensure they are future ready and community strong. &nbsp\;This has resulted in exciting and innovative new academic programming\, expanded use of technology and increased opportunities for students. &nbsp\;Buildings have also been renovated including Diamondhead Education Center (where the Chamber event will take place)\, which used to a shopping mall\, and now provides learning opportunities for newborns on up to senior citizens. &nbsp\;We look forward to sharing information about our redesign and also inviting Chamber members to become partners with us as we work together to provide a high-quality education and bright futures for all students&quot\;\n<div>&nbsp\;</div>\n\n<div>- Ruth Dunn / Communications Director</div>\n
LOCATION:Diamondhead Education Center 200 West Burnsville Parkway Burnsville\, MN 55337
UID:e.411.667133
SEQUENCE:3
DTSTAMP:20260423T024126Z
URL:https://members.burnsvillechamber.com/events/details/2017-march-am-coffee-break-district-191-667133
END:VEVENT

END:VCALENDAR
