BEGIN:VCALENDAR
VERSION:2.0
PRODID:-//ChamberMaster//Event Calendar 2.0//EN
METHOD:PUBLISH
X-PUBLISHED-TTL:P3D
REFRESH-INTERVAL:P3D
CALSCALE:GREGORIAN
BEGIN:VEVENT
DTSTART:20170302T233000Z
DTEND:20170303T030000Z
X-MICROSOFT-CDO-ALLDAYEVENT:FALSE
SUMMARY:2017 Bite of Burnsville - A Night to Savor
DESCRIPTION:Please note that the online ticket purchase\n\noption has closed.  \n\n\n\nTickets are still available for purchase\n\nat the Ames Box Office\n\nor by contacting Tricia Andrews\n\nat 952-898-5642.  \n\nReminder:  Walk-Ins are always welcome!\n\n\nThe Bite of Burnsville is an annual celebration that showcases many of the best restaurants in Burnsville and includes an auction\, social and entertainment.  The Bite Committee helps in coordinating the event marketing\, restaurants\, and auction.\n\n\n\nThe Ames Center doors will open at 5:30PM for cocktails & early auction viewings.  The food sampling will begin at 6:00PM.  Don't miss the opportunity to find the auction item you want!\n\n\nParticipating Restaurants Listed Below
X-ALT-DESC;FMTTYPE=text/html:<h2 style="text-align: center\;"><strong>Please note that the online ticket purchase<br />\noption has closed. &nbsp\;<br />\n<br />\nTickets are still available for purchase<br />\nat the Ames Box Office<br />\nor by contacting Tricia Andrews<br />\nat 952-898-5642. &nbsp\;<br />\n<span style="color:#FF0000\;">Reminder: &nbsp\;Walk-Ins are always welcome!</span></strong></h2>\n<br />\nThe Bite of Burnsville is an annual celebration that showcases many of the best restaurants in Burnsville and includes an auction\, social and entertainment. &nbsp\;The Bite Committee helps in coordinating the event marketing\, restaurants\, and auction.<br />\n<br />\nThe Ames Center doors will open at 5:30PM for cocktails &amp\; early auction viewings. &nbsp\;The food sampling will begin at 6:00PM. &nbsp\;Don&#39\;t miss the opportunity to find the auction item you want!\n<h2 style="text-align: center\;"><br />\n<strong>Participating Restaurants Listed Below</strong></h2>\n
LOCATION:Ames Center 12600 Nicollet Ave. Burnsville\, MN 55337
UID:e.411.667128
SEQUENCE:3
DTSTAMP:20260423T024343Z
URL:https://members.burnsvillechamber.com/events/details/2017-bite-of-burnsville-a-night-to-savor-667128
END:VEVENT

END:VCALENDAR
