BEGIN:VCALENDAR
VERSION:2.0
PRODID:-//ChamberMaster//Event Calendar 2.0//EN
METHOD:PUBLISH
X-PUBLISHED-TTL:P3D
REFRESH-INTERVAL:P3D
CALSCALE:GREGORIAN
BEGIN:VEVENT
DTSTART:20170412T130000Z
DTEND:20170412T140000Z
X-MICROSOFT-CDO-ALLDAYEVENT:FALSE
SUMMARY:2017 April AM Coffee Break Anchor Bank
DESCRIPTION:Anchor Bank Burnsville Location is turning 10!\n\n\n\nAnchor Bank is celebrating their 50th Anniversary!
X-ALT-DESC;FMTTYPE=text/html:Anchor Bank Burnsville Location is turning 10!<br />\n<br />\nAnchor Bank is celebrating their 50th Anniversary!<br />\n<br />\n&nbsp\;
LOCATION:Anchor Bank 550 West Burnsville Parkway Burnsville\, MN 55337
UID:e.411.667129
SEQUENCE:3
DTSTAMP:20260423T011445Z
URL:https://members.burnsvillechamber.com/events/details/2017-april-am-coffee-break-anchor-bank-667129
END:VEVENT

END:VCALENDAR
