BEGIN:VCALENDAR
VERSION:2.0
PRODID:-//ChamberMaster//Event Calendar 2.0//EN
METHOD:PUBLISH
X-PUBLISHED-TTL:P3D
REFRESH-INTERVAL:P3D
CALSCALE:GREGORIAN
BEGIN:VEVENT
DTSTART:20161006T200000Z
DTEND:20161006T213000Z
X-MICROSOFT-CDO-ALLDAYEVENT:FALSE
SUMMARY:2016 The Garage - Studio Grand Opening Ceremony
DESCRIPTION:Studio Grand Opening Ceremony
X-ALT-DESC;FMTTYPE=text/html:<div style="color: gray\;">Studio Grand Opening Ceremony</div>\n
LOCATION:The Garage 75 Civic Center Parkway Burnsville\, MN 55337
UID:e.411.667107
SEQUENCE:3
DTSTAMP:20260423T111116Z
URL:https://members.burnsvillechamber.com/events/details/2016-the-garage-studio-grand-opening-ceremony-667107
END:VEVENT

END:VCALENDAR
