BEGIN:VCALENDAR
VERSION:2.0
PRODID:-//ChamberMaster//Event Calendar 2.0//EN
METHOD:PUBLISH
X-PUBLISHED-TTL:P3D
REFRESH-INTERVAL:P3D
CALSCALE:GREGORIAN
BEGIN:VEVENT
DTSTART:20160303T133000Z
DTEND:20160303T170000Z
X-MICROSOFT-CDO-ALLDAYEVENT:FALSE
SUMMARY:2016 Talk To Millennials Event
DESCRIPTION:TALK TO MILLENNIALS\n\nEngaging the next generation of employees\, business owners\, and customers\n\nPerplexing to many organizations\, Millennials aren't joining\, buying\, networking\, \n\nlearning\, or engaging like other generations. Having come of age alongside a major\n\nrecession\, digital innovation\, and political revolution\, they now represent a majority\n\nof the workforce and significant consumer power. Please join us as Sarah Sladek\,\n\nCEO of XYZ University\, shares her insightful\, sometimes humorous\, and often\n\nshocking view into the Millennial mindset. (Coworkers are welcome\, too.)\n\n\n\n \n\n\n	\n		\n			\n			7:30 AM   8:00 AM \n			\n			\n			Registration and Continental Breakfast\n			\n		\n		\n			\n			8:00 AM   9:00 AM\n			\n			\n			Generations at Work \n\n			Attracting and retaining a skilled workforce while managing four generations\n			\n		\n		\n			\n			9:00 AM   10:00 AM\n			\n			\n			Getting Gen Y to Buy\n\n			Overcoming Millennials' disinterest in ownership\, advertising\, and push marketing\n			\n		\n		\n			\n			10:00 AM   10:15 AM\n			\n			\n			Break\n			\n		\n		\n			\n			10:15 AM   11:00 AM\n			\n			\n			Preparing for 2020 and Beyond\n\n			Interactive perspectives and best practices to help your company develop a "Next Generation/Seller of Choice" strategy
X-ALT-DESC;FMTTYPE=text/html:<p class="MsoNormal" style="line-height:16.9pt"><b><span lang="EN" style="font-size:15.0pt\;font-family:">TALK TO MILLENNIALS</span></b><br />\n<b><span lang="EN" style="font-size:13.5pt\;font-family:">Engaging the next generation of employees\, business owners\, and customers</span></b></p>\n\n<p class="MsoNormal" style="mso-margin-top-alt:auto\;margin-bottom:7.5pt"><span lang="EN" style="font-size: 9pt\; font-family: Helvetica\, sans-serif\;">Perplexing to many organizations\, Millennials aren&rsquo\;t joining\, buying\,&nbsp\;networking\,&nbsp\;<br />\nlearning\, or engaging like other generations. Having come of age alongside a&nbsp\;major<br />\nrecession\, digital innovation\, and political revolution\, they now represent a&nbsp\;majority<br />\nof the workforce and significant consumer power. Please join us as Sarah Sladek\,<br />\nCEO of XYZ University\, shares her insightful\, sometimes humorous\, and&nbsp\;often<br />\nshocking view into the Millennial mindset. (Coworkers are welcome\, too.)</span><br />\n<br />\n&nbsp\;</p>\n\n<table border="0" cellpadding="0" cellspacing="0" class="MsoNormalTable" style="width:100.0%\;border-collapse:collapse\;mso-yfti-tbllook:1184\;mso-padding-alt:\n 0in 0in 0in 0in" width="100%">\n	<tbody>\n		<tr>\n			<td style="width:102.0pt\;padding:6.0pt 6.0pt 6.0pt 6.0pt" width="136">\n			<p class="MsoNormal"><b><span style="font-size:9.0pt\;font-family:&quot\;Helvetica&quot\;\,sans-serif\;\n  color:yellowgreen">7:30 AM &ndash\; 8:00 AM</span></b><span style="font-size:9.0pt\;\n  font-family:&quot\;Helvetica&quot\;\,sans-serif\;color:yellowgreen">&nbsp\;</span><span style="font-size: 9pt\; font-family: Helvetica\, sans-serif\;"><o:p></o:p></span></p>\n			</td>\n			<td style="width:214.5pt\;padding:6.0pt 6.0pt 6.0pt 6.0pt" width="286">\n			<p class="MsoNormal"><b><span style="font-size: 9pt\; font-family: Helvetica\, sans-serif\;">Registration and Continental Breakfast</span></b><span style="font-size: 9pt\; font-family: Helvetica\, sans-serif\;"><o:p></o:p></span></p>\n			</td>\n		</tr>\n		<tr>\n			<td style="width:102.0pt\;padding:6.0pt 6.0pt 6.0pt 6.0pt" valign="top" width="136">\n			<p class="MsoNormal"><b><span style="font-size:9.0pt\;font-family:&quot\;Helvetica&quot\;\,sans-serif\;\n  color:yellowgreen">8:00 AM &ndash\; 9:00 AM</span></b><span style="font-size: 9pt\; font-family: Helvetica\, sans-serif\;"><o:p></o:p></span></p>\n			</td>\n			<td style="width:214.5pt\;padding:6.0pt 6.0pt 6.0pt 6.0pt" width="286">\n			<p class="MsoNormal"><b><span style="font-size: 9pt\; font-family: Helvetica\, sans-serif\;">Generations at Work</span></b><span style="font-size: 9pt\; font-family: Helvetica\, sans-serif\;">&nbsp\;<br />\n			Attracting and retaining a skilled workforce while managing four&nbsp\;generations<o:p></o:p></span></p>\n			</td>\n		</tr>\n		<tr>\n			<td style="width:102.0pt\;padding:6.0pt 6.0pt 6.0pt 6.0pt" valign="top" width="136">\n			<p class="MsoNormal"><b><span style="font-size:9.0pt\;font-family:&quot\;Helvetica&quot\;\,sans-serif\;\n  color:yellowgreen">9:00 AM &ndash\; 10:00 AM</span></b><span style="font-size: 9pt\; font-family: Helvetica\, sans-serif\;"><o:p></o:p></span></p>\n			</td>\n			<td style="width:214.5pt\;padding:6.0pt 6.0pt 6.0pt 6.0pt" valign="top" width="286">\n			<p class="MsoNormal"><b><span style="font-size: 9pt\; font-family: Helvetica\, sans-serif\;">Getting Gen Y to Buy</span></b><br />\n			<span style="font-size: 9pt\; font-family: Helvetica\, sans-serif\;">Overcoming Millennials&rsquo\; disinterest in ownership\, advertising\, and push marketing<o:p></o:p></span></p>\n			</td>\n		</tr>\n		<tr>\n			<td style="width:102.0pt\;padding:6.0pt 6.0pt 6.0pt 6.0pt" valign="top" width="136">\n			<p class="MsoNormal"><b><span style="font-size:9.0pt\;font-family:&quot\;Helvetica&quot\;\,sans-serif\;\n  color:yellowgreen">10:00 AM &ndash\; 10:15 AM</span></b><span style="font-size: 9pt\; font-family: Helvetica\, sans-serif\;"><o:p></o:p></span></p>\n			</td>\n			<td style="width:214.5pt\;padding:6.0pt 6.0pt 6.0pt 6.0pt" valign="top" width="286">\n			<p class="MsoNormal"><b><span style="font-size: 9pt\; font-family: Helvetica\, sans-serif\;">Break</span></b><span style="font-size: 9pt\; font-family: Helvetica\, sans-serif\;"><o:p></o:p></span></p>\n			</td>\n		</tr>\n		<tr>\n			<td style="width:102.0pt\;padding:6.0pt 6.0pt 6.0pt 6.0pt" valign="top" width="136">\n			<p class="MsoNormal"><b><span style="font-size:9.0pt\;font-family:&quot\;Helvetica&quot\;\,sans-serif\;\n  color:yellowgreen">10:15 AM &ndash\; 11:00 AM</span></b><span style="font-size: 9pt\; font-family: Helvetica\, sans-serif\;"><o:p></o:p></span></p>\n			</td>\n			<td style="width:214.5pt\;padding:6.0pt 6.0pt 6.0pt 6.0pt" valign="top" width="286">\n			<p class="MsoNormal"><b><span style="font-size: 9pt\; font-family: Helvetica\, sans-serif\;">Preparing for 2020 and Beyond</span></b><br />\n			<span style="font-size: 9pt\; font-family: Helvetica\, sans-serif\;">Interactive perspectives and best practices to help your company develop a &quot\;Next Generation/Seller of Choice&quot\; strategy&nbsp\;<o:p></o:p></span></p>\n			</td>\n		</tr>\n	</tbody>\n</table>\n
LOCATION:Woulfe Alumni Hall Anderson Student Center University of St. Thomas
UID:e.411.667031
SEQUENCE:3
DTSTAMP:20260424T001728Z
URL:https://members.burnsvillechamber.com/events/details/2016-talk-to-millennials-event-03-03-2016-667031
END:VEVENT

END:VCALENDAR
