BEGIN:VCALENDAR
VERSION:2.0
PRODID:-//ChamberMaster//Event Calendar 2.0//EN
METHOD:PUBLISH
X-PUBLISHED-TTL:P3D
REFRESH-INTERVAL:P3D
CALSCALE:GREGORIAN
BEGIN:VEVENT
DTSTART:20161027T213000Z
DTEND:20161027T233000Z
X-MICROSOFT-CDO-ALLDAYEVENT:FALSE
SUMMARY:2016 October GROW THE CHAMBER Celebration
DESCRIPTION:GROW THE CHAMBER Celebration &\n\nNew Member Reception\n\nThursday\, October 27\, 2016\n\n4:30 - 6:30 pm\n\n\n\nJoin us to:\n\n\n	Celebrate Membership Drive\n	Introduce New Members\n	Award Prizes for Membership Drive Volunteers\n	Recognize Team with the most new members\n	Network\n	Have Fun!
X-ALT-DESC;FMTTYPE=text/html:<br />\n<strong><span style="font-size:18px\;">GROW THE CHAMBER Celebration &amp\;<br />\nNew Member Reception</span></strong><br />\n<span style="font-size:14px\;">Thursday\, October 27\, 2016<br />\n4:30 - 6:30 pm<br />\n<br />\nJoin us to:</span>\n\n<ul>\n	<li>Celebrate Membership Drive</li>\n	<li>Introduce New Members</li>\n	<li>Award Prizes for Membership Drive Volunteers</li>\n	<li>Recognize Team with the most new members</li>\n	<li>Network</li>\n	<li>Have Fun!</li>\n</ul>\n
LOCATION:Black Diamond Restaurant (At Buck Hill) 15400 Buck Hill Rd Burnsville\, MN 55306
UID:e.411.667114
SEQUENCE:3
DTSTAMP:20260423T112105Z
URL:https://members.burnsvillechamber.com/events/details/2016-october-grow-the-chamber-celebration-667114
END:VEVENT

END:VCALENDAR
