BEGIN:VCALENDAR
VERSION:2.0
PRODID:-//ChamberMaster//Event Calendar 2.0//EN
METHOD:PUBLISH
X-PUBLISHED-TTL:P3D
REFRESH-INTERVAL:P3D
CALSCALE:GREGORIAN
BEGIN:VEVENT
DTSTART:20161012T130000Z
DTEND:20161012T140000Z
X-MICROSOFT-CDO-ALLDAYEVENT:FALSE
SUMMARY:2016 October AM Coffee Break HoneyBaked Ham Co
DESCRIPTION:Please join us for an AM Coffee Break at The HoneyBaked Ham Co.  Marc Spiros is excited to have all of you at his place of business.  Let's support a fellow Chamber member!
X-ALT-DESC;FMTTYPE=text/html:Please join us for an AM Coffee Break at The HoneyBaked Ham Co. &nbsp\;Marc Spiros is excited to have all of you at his place of business. &nbsp\;Let&#39\;s support a fellow Chamber member!<br />\n<br />\n&nbsp\;
LOCATION:The HoneyBaked Ham Co 14150 Nicollet Ave South #14A Burnsville\, MN 55337
UID:e.411.667102
SEQUENCE:3
DTSTAMP:20260423T112140Z
URL:https://members.burnsvillechamber.com/events/details/2016-october-am-coffee-break-honeybaked-ham-co-667102
END:VEVENT

END:VCALENDAR
