BEGIN:VCALENDAR
VERSION:2.0
PRODID:-//ChamberMaster//Event Calendar 2.0//EN
METHOD:PUBLISH
X-PUBLISHED-TTL:P3D
REFRESH-INTERVAL:P3D
CALSCALE:GREGORIAN
BEGIN:VEVENT
DTSTART:20161101T123000Z
DTEND:20161101T140000Z
X-MICROSOFT-CDO-ALLDAYEVENT:FALSE
SUMMARY:2016 November Workforce Forum
DESCRIPTION:Workforce Forum\n\n\n\nJoin Chamber members for a conversation about workforce challenges and help identify things the Chamber can do to help you find and retain quality employees\n\n\n\n* Share your story of employment challenges\n\n\n\n* Hear what others are experiencing\n\n\n\n* Share what is working\n\n\n\n* Brainstorm possible solutions to workforce challenges\n\n\n\n* Identify things the Chamber could do to help\n\n\n\n* Identify partners who can provide resources to employers\n\n\n\nFREE to attend\, Please register here to reserve your spot.
X-ALT-DESC;FMTTYPE=text/html:<br />\n<span style="font-size:20px\;"><strong>Workforce Forum</strong></span><br />\n<br />\nJoin Chamber members for a conversation about workforce challenges and help identify things the Chamber can do to help you find and retain quality employees<br />\n<br />\n* Share your story of employment challenges<br />\n<br />\n* Hear what others are experiencing<br />\n<br />\n* Share what is working<br />\n<br />\n* Brainstorm possible solutions to workforce challenges<br />\n<br />\n* Identify things the Chamber could do to help<br />\n<br />\n* Identify partners who can provide resources to employers<br />\n<br />\nFREE to attend\, Please register here to reserve your spot.
LOCATION:Dakota County Workforce Center - Burnsville 2800 County Road 42 West
UID:e.411.667111
SEQUENCE:3
DTSTAMP:20260423T092012Z
URL:https://members.burnsvillechamber.com/events/details/2016-november-workforce-forum-667111
END:VEVENT

END:VCALENDAR
