BEGIN:VCALENDAR
VERSION:2.0
PRODID:-//ChamberMaster//Event Calendar 2.0//EN
METHOD:PUBLISH
X-PUBLISHED-TTL:P3D
REFRESH-INTERVAL:P3D
CALSCALE:GREGORIAN
BEGIN:VEVENT
DTSTART:20161109T140000Z
DTEND:20161109T150000Z
X-MICROSOFT-CDO-ALLDAYEVENT:FALSE
SUMMARY:2016 November AM Coffee Break @ Aero Drapery & Blinds
DESCRIPTION:Join us for the November AM Coffee Break @ Aero Drapery & Blinds
X-ALT-DESC;FMTTYPE=text/html:<h2>Join us for the November AM Coffee Break @ Aero Drapery &amp\; Blinds</h2>\n
LOCATION:Aero Drapery & Blinds 1421254 County Road 42 West Burnsville\, MN 55337
UID:e.411.667108
SEQUENCE:3
DTSTAMP:20260423T094923Z
URL:https://members.burnsvillechamber.com/events/details/2016-november-am-coffee-break-aero-drapery-blinds-667108
END:VEVENT

END:VCALENDAR
