BEGIN:VCALENDAR
VERSION:2.0
PRODID:-//ChamberMaster//Event Calendar 2.0//EN
METHOD:PUBLISH
X-PUBLISHED-TTL:P3D
REFRESH-INTERVAL:P3D
CALSCALE:GREGORIAN
BEGIN:VEVENT
DTSTART:20160303T223000Z
DTEND:20160304T003000Z
X-MICROSOFT-CDO-ALLDAYEVENT:FALSE
SUMMARY:2016 March Business After Hours @ JL Beers
DESCRIPTION:2016 March Business After Hours\n\n@ JL Beers
X-ALT-DESC;FMTTYPE=text/html:<h3 style="text-align: center\;">2016 March Business After Hours<br />\n@ JL Beers</h3>\n
LOCATION:JL Beers 1230 County Road 42 Burnsville\, MN 55337
UID:e.411.667026
SEQUENCE:3
DTSTAMP:20260424T001754Z
URL:https://members.burnsvillechamber.com/events/details/2016-march-business-after-hours-jl-beers-03-03-2016-667026
END:VEVENT

END:VCALENDAR
