BEGIN:VCALENDAR
VERSION:2.0
PRODID:-//ChamberMaster//Event Calendar 2.0//EN
METHOD:PUBLISH
X-PUBLISHED-TTL:P3D
REFRESH-INTERVAL:P3D
CALSCALE:GREGORIAN
BEGIN:VEVENT
DTSTART:20160301T133000Z
DTEND:20160301T150000Z
X-MICROSOFT-CDO-ALLDAYEVENT:FALSE
SUMMARY:2016 March Burnsville Chamber Breakfast
DESCRIPTION:Burnsville Chamber Breakfast\n\nTopic: Legislative Session Preview\n\nPanel:\n\n\n	Senator Jim Carlson\, District 51                                 \n	Representative Sandy Masin District 51A\n	Senator Dan Hall\, District 56                                        \n	Representative Drew Christensen\, District 56A\n	Representative Roz Peterson\, District
X-ALT-DESC;FMTTYPE=text/html:<div style="text-align: center\;"><strong><span style="font-size:20.0pt\;">Burnsville Chamber Breakfast</span></strong><br />\n<strong><span style="font-size:14.0pt\;">Topic:&nbsp\;</span></strong><span style="font-size:14.0pt\;">Legislative Session Preview</span></div>\n\n<div style="text-align: center\;"><strong><span style="font-size:14.0pt\;">Panel:</span></strong></div>\n\n<ul>\n	<li>Senator Jim Carlson\, District 51&nbsp\;&nbsp\;&nbsp\;&nbsp\;&nbsp\;&nbsp\;&nbsp\;&nbsp\;&nbsp\;&nbsp\;&nbsp\;&nbsp\;&nbsp\;&nbsp\;&nbsp\;&nbsp\;&nbsp\;&nbsp\;&nbsp\;&nbsp\;&nbsp\;&nbsp\;&nbsp\;&nbsp\;&nbsp\;&nbsp\;&nbsp\;&nbsp\;&nbsp\;&nbsp\;&nbsp\;&nbsp\;&nbsp\;</li>\n	<li>Representative Sandy Masin District 51A</li>\n	<li>Senator Dan Hall\, District 56&nbsp\;&nbsp\;&nbsp\;&nbsp\;&nbsp\;&nbsp\;&nbsp\;&nbsp\;&nbsp\;&nbsp\;&nbsp\;&nbsp\;&nbsp\;&nbsp\;&nbsp\;&nbsp\;&nbsp\;&nbsp\;&nbsp\;&nbsp\;&nbsp\;&nbsp\;&nbsp\;&nbsp\;&nbsp\;&nbsp\;&nbsp\;&nbsp\;&nbsp\;&nbsp\;&nbsp\;&nbsp\;&nbsp\;&nbsp\;&nbsp\;&nbsp\;&nbsp\;&nbsp\;&nbsp\;&nbsp\;</li>\n	<li>Representative Drew Christensen\, District 56A</li>\n	<li>Representative Roz Peterson\, District&nbsp\;</li>\n</ul>\n
LOCATION:Best Western Premier Nicollet Inn 14201 Nicollet Avenue South
UID:e.411.667030
SEQUENCE:3
DTSTAMP:20260424T001642Z
URL:https://members.burnsvillechamber.com/events/details/2016-march-burnsville-chamber-breakfast-03-01-2016-667030
END:VEVENT

END:VCALENDAR
