BEGIN:VCALENDAR
VERSION:2.0
PRODID:-//ChamberMaster//Event Calendar 2.0//EN
METHOD:PUBLISH
X-PUBLISHED-TTL:P3D
REFRESH-INTERVAL:P3D
CALSCALE:GREGORIAN
BEGIN:VEVENT
DTSTART:20160421T213000Z
DTEND:20160421T233000Z
X-MICROSOFT-CDO-ALLDAYEVENT:FALSE
SUMMARY:2016 Lakeview Bank Legacy Awards Reception
DESCRIPTION:Lakeview Bank Legacy Awards Reception\n\nHosted By Lakeview Bank\n\nEnjoy appetizers and drinks and great company at Legacy Award Reception\,\n\nhosted by Lakeview Bank!\n\n\n\nLakeview Bank will also be presenting their 2016 Legacy Award\,\n\nwith the reception beginning at 5:30 p.m.
X-ALT-DESC;FMTTYPE=text/html:<h3 style="text-align: center\;">Lakeview Bank Legacy Awards Reception<br />\nHosted By Lakeview Bank</h3>\n\n<div style="text-align: center\;"><span style="color: rgb(68\, 68\, 68)\; font-family: Arial\, Helvetica\, sans-serif\; font-size: 14px\; line-height: 18.2px\;">Enjoy appetizers and drinks and great company at Legacy Award Reception\,<br />\nhosted by Lakeview Bank!</span><br style="bottom: auto\; box-sizing: content-box\; clear: none\; color: rgb(68\, 68\, 68)\; content: normal\; direction: inherit\; display: inline\; empty-cells: show\; float: none\; font-stretch: inherit\; font-size: 14px\; font-family: Arial\, Helvetica\, sans-serif\; left: auto\; line-height: 18.2px\; margin: 0px\; max-height: none\; max-width: none\; min-height: initial\; min-width: initial\; opacity: 1\; outline: invert none medium\; outline-offset: 0px\; overflow: visible\; padding: 0px\; position: static\; resize: none\; right: auto\; table-layout: auto\; text-overflow: clip\; top: auto\; vertical-align: baseline\; visibility: inherit\; word-break: inherit\; word-wrap: inherit\; z-index: auto\; border: none\; border-collapse: separate\; border-image-source: none\; border-image-slice: 100% 1 0\; border-image-repeat: stretch\; border-radius: 0px\; height: auto\; width: auto\; background-image: none\; background-attachment: initial\; background-size: initial\; background-origin: initial\; background-clip: initial\; background-position: initial\; background-repeat: initial\;" />\n<br style="bottom: auto\; box-sizing: content-box\; clear: none\; color: rgb(68\, 68\, 68)\; content: normal\; direction: inherit\; display: inline\; empty-cells: show\; float: none\; font-stretch: inherit\; font-size: 14px\; font-family: Arial\, Helvetica\, sans-serif\; left: auto\; line-height: 18.2px\; margin: 0px\; max-height: none\; max-width: none\; min-height: initial\; min-width: initial\; opacity: 1\; outline: invert none medium\; outline-offset: 0px\; overflow: visible\; padding: 0px\; position: static\; resize: none\; right: auto\; table-layout: auto\; text-overflow: clip\; top: auto\; vertical-align: baseline\; visibility: inherit\; word-break: inherit\; word-wrap: inherit\; z-index: auto\; border: none\; border-collapse: separate\; border-image-source: none\; border-image-slice: 100% 1 0\; border-image-repeat: stretch\; border-radius: 0px\; height: auto\; width: auto\; background-image: none\; background-attachment: initial\; background-size: initial\; background-origin: initial\; background-clip: initial\; background-position: initial\; background-repeat: initial\;" />\n<span style="color: rgb(68\, 68\, 68)\; font-family: Arial\, Helvetica\, sans-serif\; font-size: 14px\; line-height: 18.2px\;">Lakeview Bank will also be presenting their 2016 Legacy Award\,<br />\nwith the reception beginning at 5:30 p.m.</span></div>\n
LOCATION:Lakeview Bank 9725 163rd St W\, Lakeville\, MN 55044 View A Map
UID:e.411.667029
SEQUENCE:3
DTSTAMP:20260423T220902Z
URL:https://members.burnsvillechamber.com/events/details/2016-lakeview-bank-legacy-awards-reception-04-21-2016-667029
END:VEVENT

END:VCALENDAR
