BEGIN:VCALENDAR
VERSION:2.0
PRODID:-//ChamberMaster//Event Calendar 2.0//EN
METHOD:PUBLISH
X-PUBLISHED-TTL:P3D
REFRESH-INTERVAL:P3D
CALSCALE:GREGORIAN
BEGIN:VEVENT
DTSTART:20161130T140000Z
DTEND:20161130T153000Z
X-MICROSOFT-CDO-ALLDAYEVENT:FALSE
SUMMARY:2016 County Road 42 Bridge Project Information & Input Meeting
DESCRIPTION:County Road 42 Bridge Project\n\nInformation & Input Meeting for Business\n\n\n\nCome and learn about the scope and impact of the 2017 County Road 42 Bridge Project.  There will be City\, County & Mn DOT representatives at the meeting to answer your questions and hear any concerns you have about the project.
X-ALT-DESC;FMTTYPE=text/html:<br />\n<span style="font-size:14px\;"><strong>County Road 42 Bridge Project<br />\nInformation &amp\; Input Meeting for Business</strong></span><br />\n<br />\nCome and learn about the scope and impact of the 2017 County Road 42 Bridge Project. &nbsp\;There will be City\, County &amp\; Mn DOT representatives at the meeting to answer your questions and hear any concerns you have about the project.
LOCATION:Gateway Plaza Office Building 350 West Burnsville Parkway Basement Conference Room (Level G)
UID:e.411.667121
SEQUENCE:3
DTSTAMP:20260423T094853Z
URL:https://members.burnsvillechamber.com/events/details/2016-county-road-42-bridge-project-information-input-meeting-667121
END:VEVENT

END:VCALENDAR
