BEGIN:VCALENDAR
VERSION:2.0
PRODID:-//ChamberMaster//Event Calendar 2.0//EN
METHOD:PUBLISH
X-PUBLISHED-TTL:P3D
REFRESH-INTERVAL:P3D
CALSCALE:GREGORIAN
BEGIN:VEVENT
DTSTART:20160420T160000Z
DTEND:20160420T220000Z
X-MICROSOFT-CDO-ALLDAYEVENT:FALSE
SUMMARY:2016 Business Day at the Capitol April 20th
DESCRIPTION:2016 Business Day at the Capitol April 20th:\n\nWednesday\, April 20\, 2016\n \n\nThe legislative issues affecting Minnesota businesses are important to you. That's why the Minnesota Chamber is providing you an opportunity this year to talk face-to-face with your legislators about these issues. \n\n \n\nOn April 20\, the topic will be tax relief where we will urge legislators to use the projected budget surplus to reduce the uncompetitive taxes placed on Minnesota businesses\n\n \n\n\nSenator Ann Rest: DFL - New Hope \n\nChair of the Senate Taxes - Tax Reform Division\n\n \n\nRepresentative Sarah Anderson: R - Plymouth \n\nChair of State Government Finance Committee and member of House Tax Committee\n\n\n\nThis event is in partnership with the Minnesota Chamber of Commerce and the Burnsville Chamber of Commerce.
X-ALT-DESC;FMTTYPE=text/html:<h3 style="text-align: center\;">2016 Business Day&nbsp\;at the Capitol April 20th:<br />\nWednesday\, April 20\, 2016</h3>\n&nbsp\;\n\n<div align="left" style="font-family: Arial\, Helvetica\, sans-serif\; color: rgb(97\, 97\, 97)\; font-size: 10pt\;">The legislative issues affecting Minnesota businesses are important to you. That&#39\;s why the Minnesota Chamber is providing you an opportunity this year to talk face-to-face with your legislators about these issues.&nbsp\;</div>\n\n<div align="left">&nbsp\;</div>\n\n<div align="left"><span color="#6b6b6b" face="Arial\, Helvetica\, sans-serif" style="FONT-FAMILY: Arial\, Helvetica\, sans-serif\; COLOR: #6b6b6b"><span style="LINE-HEIGHT: 1.4\; FONT-SIZE: 10pt">On April 20\, the topic will be tax relief where we will urge legislators to use the projected budget surplus to reduce the&nbsp\;</span><span style="line-height: 18px\;">uncompetitive</span><span style="LINE-HEIGHT: 1.4\; FONT-SIZE: 10pt">&nbsp\;taxes placed on Minnesota businesses</span></span><br />\n&nbsp\;</div>\n\n<div style="text-align: center\;">\n<div align="left"><strong>Senator Ann Rest</strong>: DFL - New Hope&nbsp\;</div>\n\n<div align="left"><em>Chair of the Senate Taxes</em> - <em>Tax Reform Division</em></div>\n\n<div align="left">&nbsp\;</div>\n\n<div align="left"><strong>Representative Sarah Anderson</strong>: R - Plymouth&nbsp\;</div>\n\n<div align="left"><em>Chair of State Government Finance Committee and member of House Tax Committee<br />\n<br />\nThis event is in partnership with the Minnesota Chamber of Commerce and the Burnsville Chamber of Commerce.</em></div>\n</div>\n
LOCATION:11:00AM - 1:00PM: Lunch & Program - Double Tree by Hilton Hotel\, St. Paul Downtown 1:00PM - 1:30PM: Travel time to the State and Senate Office Buildings 1:30PM - 3:30PM: Meet with your Legislators 3:30PM - 5:00PM: Reception - Rival House Sporting Parlour
UID:e.411.667047
SEQUENCE:3
DTSTAMP:20260423T221103Z
URL:https://members.burnsvillechamber.com/events/details/2016-business-day-at-the-capitol-april-20th-04-20-2016-667047
END:VEVENT

END:VCALENDAR
