BEGIN:VCALENDAR
VERSION:2.0
PRODID:-//ChamberMaster//Event Calendar 2.0//EN
METHOD:PUBLISH
X-PUBLISHED-TTL:P3D
REFRESH-INTERVAL:P3D
CALSCALE:GREGORIAN
BEGIN:VEVENT
DTSTART:20161006T213000Z
DTEND:20161006T233000Z
X-MICROSOFT-CDO-ALLDAYEVENT:FALSE
SUMMARY:2016 Business After Hours - Ames Celebration
DESCRIPTION:An After Hours worthy of a standing ovation\; join us on October 6\, 2016 at the Ames Center as they host a grand opening for their newly redesigned concession stand and bar.  There will be appetizers and drinks.  Learn more about the Ames Center and celebrate the new concession stand.
X-ALT-DESC;FMTTYPE=text/html:An After Hours worthy of a standing ovation\; join us on October 6\, 2016 at the Ames Center as they host a grand opening for their newly redesigned concession stand and bar. &nbsp\;There will be appetizers and drinks. &nbsp\;Learn more about the Ames Center and celebrate the new concession stand.
LOCATION:Ames Center 12600 Nicollet Ave. Burnsville\, MN 55337
UID:e.411.667097
SEQUENCE:3
DTSTAMP:20260423T111110Z
URL:https://members.burnsvillechamber.com/events/details/2016-business-after-hours-ames-celebration-667097
END:VEVENT

END:VCALENDAR
