BEGIN:VCALENDAR
VERSION:2.0
PRODID:-//ChamberMaster//Event Calendar 2.0//EN
METHOD:PUBLISH
X-PUBLISHED-TTL:P3D
REFRESH-INTERVAL:P3D
CALSCALE:GREGORIAN
BEGIN:VEVENT
DTSTART:20160427T153000Z
DTEND:20160427T163000Z
X-MICROSOFT-CDO-ALLDAYEVENT:FALSE
SUMMARY:2016 Ascend Chiropractic & Wellness\, LLC Ribbon Cutting
DESCRIPTION:Ribbon Cutting!
X-ALT-DESC;FMTTYPE=text/html:Ribbon Cutting!
LOCATION:Ascend Chiropractic & Wellness\, LLC 200 East Travelers Trail Burnsvill\, MN 55337
UID:e.411.667056
SEQUENCE:3
DTSTAMP:20260423T221006Z
URL:https://members.burnsvillechamber.com/events/details/2016-ascend-chiropractic-wellness-llc-ribbon-cutting-04-27-2016-667056
END:VEVENT

END:VCALENDAR
