BEGIN:VCALENDAR
VERSION:2.0
PRODID:-//ChamberMaster//Event Calendar 2.0//EN
METHOD:PUBLISH
X-PUBLISHED-TTL:P3D
REFRESH-INTERVAL:P3D
CALSCALE:GREGORIAN
BEGIN:VEVENT
DTSTART:20150909T130000Z
DTEND:20150909T140000Z
X-MICROSOFT-CDO-ALLDAYEVENT:FALSE
SUMMARY:2015 September AM Coffee Break @ US Federal Credit Union
DESCRIPTION:2015 September AM Coffee Break @ US Federal Credit Union\n\nEnjoy a good cup of coffee with friends and colleagues.
X-ALT-DESC;FMTTYPE=text/html:2015 September AM Coffee Break @ US Federal Credit Union<br />\nEnjoy a good cup of coffee with&nbsp\;friends and colleagues.&nbsp\;&nbsp\;
LOCATION:1400 Riverwood Drive Burnsville MN 55337
UID:e.411.666962
SEQUENCE:3
DTSTAMP:20260424T101544Z
URL:https://members.burnsvillechamber.com/events/details/2015-september-am-coffee-break-us-federal-credit-union-09-09-2015-666962
END:VEVENT

END:VCALENDAR
