BEGIN:VCALENDAR
VERSION:2.0
PRODID:-//ChamberMaster//Event Calendar 2.0//EN
METHOD:PUBLISH
X-PUBLISHED-TTL:P3D
REFRESH-INTERVAL:P3D
CALSCALE:GREGORIAN
BEGIN:VEVENT
DTSTART:20151014T130000Z
DTEND:20151014T140000Z
X-MICROSOFT-CDO-ALLDAYEVENT:FALSE
SUMMARY:2015 October AM Coffee Break @ King and Companies
DESCRIPTION:2015 October AM Coffee Break @ King and Companies
X-ALT-DESC;FMTTYPE=text/html:<span style="font-size: 16px\;"><strong>2015 October AM Coffee Break @ King and Companies</strong></span><br />\n&nbsp\;
LOCATION:150 E Travelers Trail\, Suite C Burnsville\, MN 55337
UID:e.411.666960
SEQUENCE:3
DTSTAMP:20260424T082350Z
URL:https://members.burnsvillechamber.com/events/details/2015-october-am-coffee-break-king-and-companies-10-14-2015-666960
END:VEVENT

END:VCALENDAR
