BEGIN:VCALENDAR
VERSION:2.0
PRODID:-//ChamberMaster//Event Calendar 2.0//EN
METHOD:PUBLISH
X-PUBLISHED-TTL:P3D
REFRESH-INTERVAL:P3D
CALSCALE:GREGORIAN
BEGIN:VEVENT
DTSTART:20151111T140000Z
DTEND:20151111T150000Z
X-MICROSOFT-CDO-ALLDAYEVENT:FALSE
SUMMARY:2015 November AM Coffee Break @ Aero Drapery and Blind
DESCRIPTION:2015 November AM Coffee Break @ Aero Drapery and Blind\n\n\n\nCatch that first cup of coffee on Wednesday\, November 11 at the AM Coffee Break hosted by Aero Drapery and Blind while you visit with other Chamber members.
X-ALT-DESC;FMTTYPE=text/html:<span style="font-size: 16px\;"><strong>2015 November AM Coffee Break @ Aero Drapery and Blind</strong></span><br />\n<br />\nCatch that first cup of coffee on Wednesday\, November 11 at the AM Coffee Break hosted by Aero Drapery and Blind while you visit with other Chamber members.
LOCATION:Aero Drapery and Blind 1254 County Road 42 West Burnsville\, MN 55337 View A Map
UID:e.411.666993
SEQUENCE:3
DTSTAMP:20260424T064405Z
URL:https://members.burnsvillechamber.com/events/details/2015-november-am-coffee-break-aero-drapery-and-blind-11-11-2015-666993
END:VEVENT

END:VCALENDAR
