BEGIN:VCALENDAR
VERSION:2.0
PRODID:-//ChamberMaster//Event Calendar 2.0//EN
METHOD:PUBLISH
X-PUBLISHED-TTL:P3D
REFRESH-INTERVAL:P3D
CALSCALE:GREGORIAN
BEGIN:VEVENT
DTSTART:20150107T210000Z
DTEND:20150108T030000Z
X-MICROSOFT-CDO-ALLDAYEVENT:FALSE
SUMMARY:2015 MN Chamber Session Priorities
DESCRIPTION:The Minnesota Chamber Session Priorities event is a gathering of businesses and policy makers on the evening of the first day of the legislative session. Network with other businesses and policy makers while learning about the MN Chamber's legislative priorities as well as hearing from legislative leaders.
X-ALT-DESC;FMTTYPE=text/html:<span style="font-size:14px\;"><span style="font-family:verdana\;">The Minnesota Chamber Session Priorities event is a gathering of businesses and policy makers on the evening of the first day&nbsp\;of the legislative session. Network with other businesses and policy makers while learning about the MN Chamber&#39\;s legislative priorities as well as hearing from legislative leaders.</span></span>
LOCATION:St. Paul RiverCentre 175 West Kellogg Blvd Saint Paul\, MN 55102
UID:e.411.666889
SEQUENCE:3
DTSTAMP:20260425T004208Z
URL:https://members.burnsvillechamber.com/events/details/2015-mn-chamber-session-priorities-01-07-2015-666889
END:VEVENT

END:VCALENDAR
