BEGIN:VCALENDAR
VERSION:2.0
PRODID:-//ChamberMaster//Event Calendar 2.0//EN
METHOD:PUBLISH
X-PUBLISHED-TTL:P3D
REFRESH-INTERVAL:P3D
CALSCALE:GREGORIAN
BEGIN:VEVENT
DTSTART:20150128T223000Z
DTEND:20150129T000000Z
X-MICROSOFT-CDO-ALLDAYEVENT:FALSE
SUMMARY:2015 "Meet the South Metro Young Professionals" Event @ Brunswick Zone!
DESCRIPTION:Please join our energetic Young Professionals group and get to know other young professionals! We are meeting at the Brunswick Zone in Lakeville for bowling\, team building and socializing.  This is a fun way to network with your peers and establish some new relationships.  Start your year off right with the "SMYPros" (South Metro Young Professionals)!\n\n\n\nThank you to our Program Sponsor - Kraus Anderson Insurance!
X-ALT-DESC;FMTTYPE=text/html:Please join our energetic Young Professionals group and get to know other young professionals! We are meeting at the Brunswick Zone in Lakeville for bowling\, team building and socializing.&nbsp\; This is a fun way to network with your peers and establish some new relationships.&nbsp\; Start your year off right with the &quot\;SMYPros&quot\; (South Metro Young Professionals)!<br />\n<br />\nThank you to our Program Sponsor - <a href="http://www.kainsurance.com">Kraus Anderson Insurance!</a>
LOCATION:Brunswick Zone 11129 162nd Street West Lakeville\, MN 55044
UID:e.411.666912
SEQUENCE:3
DTSTAMP:20260425T004418Z
URL:https://members.burnsvillechamber.com/events/details/2015-meet-the-south-metro-young-professionals-event-brunswick-zone-01-28-2015-666912
END:VEVENT

END:VCALENDAR
