BEGIN:VCALENDAR
VERSION:2.0
PRODID:-//ChamberMaster//Event Calendar 2.0//EN
METHOD:PUBLISH
X-PUBLISHED-TTL:P3D
REFRESH-INTERVAL:P3D
CALSCALE:GREGORIAN
BEGIN:VEVENT
DTSTART:20150319T163000Z
DTEND:20150319T180000Z
X-MICROSOFT-CDO-ALLDAYEVENT:FALSE
SUMMARY:2015 March - Women Empowered Event -"Beauty Myths Busted!" @ Contour Clinic
DESCRIPTION:The Burnsville Chamber's Women Empowered group and Contour Clinic\, Burnsville\, want you to come out to enjoy lunch and learn some more about beauty myths! Learn from the wonderful staff at Contour Clinic on the various perceptions of beauty\, and take a look at what is available and CREDIBLE in today's marketplace to age proactively.\n\n\n\nRSVP REQUIRED by Wednesday\, March 18th!\n\n$25 for Burnsville Chamber Members\n\n$35 for non-members
X-ALT-DESC;FMTTYPE=text/html:The Burnsville Chamber&#39\;s Women Empowered group and Contour Clinic\, Burnsville\, want you to come out to enjoy lunch and learn some more about beauty myths! Learn from the wonderful staff at Contour Clinic on the various perceptions of beauty\, and take a look at what is available and CREDIBLE in today&#39\;s marketplace to age proactively.<br />\n<br />\nRSVP REQUIRED by Wednesday\, March 18th!<br />\n$25 for Burnsville Chamber Members<br />\n$35 for non-members<br />\n&nbsp\;
LOCATION:Contour Clinic of Burnsville 150 East Traveler's Trail\, Suite G Burnsville www.contourclinic.com
UID:e.411.666927
SEQUENCE:3
DTSTAMP:20260424T211000Z
URL:https://members.burnsvillechamber.com/events/details/2015-march-women-empowered-event-beauty-myths-busted-contour-clinic-03-19-2015-666927
END:VEVENT

END:VCALENDAR
