BEGIN:VCALENDAR
VERSION:2.0
PRODID:-//ChamberMaster//Event Calendar 2.0//EN
METHOD:PUBLISH
X-PUBLISHED-TTL:P3D
REFRESH-INTERVAL:P3D
CALSCALE:GREGORIAN
BEGIN:VEVENT
DTSTART:20150311T130000Z
DTEND:20150311T140000Z
X-MICROSOFT-CDO-ALLDAYEVENT:FALSE
SUMMARY:2015 March AM Coffee Break @ Sharepoint
DESCRIPTION:Please join us for coffee at Sharepoint Credit Union.  Learn more about what they have to offer and also a guest appearance by Mayor Elizabeth Kautz.  She will give us an  overview on her plans to attract more business to\n\nthe Burnsville area.
X-ALT-DESC;FMTTYPE=text/html:<em><strong>Please join us for coffee at Sharepoint Credit Union.&nbsp\; </strong></em>Learn more about what they have to offer and also a guest appearance by Mayor Elizabeth Kautz.&nbsp\; She will give us an&nbsp\; overview on her plans to attract more business to<br />\nthe Burnsville area.&nbsp\;
LOCATION:Sharepoint Credit Union 200 E. Travelers Trail Burnsville Mn 55337
UID:e.411.666924
SEQUENCE:3
DTSTAMP:20260424T210531Z
URL:https://members.burnsvillechamber.com/events/details/2015-march-am-coffee-break-sharepoint-03-11-2015-666924
END:VEVENT

END:VCALENDAR
