BEGIN:VCALENDAR
VERSION:2.0
PRODID:-//ChamberMaster//Event Calendar 2.0//EN
METHOD:PUBLISH
X-PUBLISHED-TTL:P3D
REFRESH-INTERVAL:P3D
CALSCALE:GREGORIAN
BEGIN:VEVENT
DTSTART:20150610T130000Z
DTEND:20150610T140000Z
X-MICROSOFT-CDO-ALLDAYEVENT:FALSE
SUMMARY:2015 June AM Coffee Break @ Arijai Aesthetic and Wellness Center
DESCRIPTION:Join us on Wednesday\, June 10 for the June AM Coffee Break hosted by Arijai Aesthetic & Wellness Center\n\n8:00 -9:00 AM
X-ALT-DESC;FMTTYPE=text/html:<span style="font-size: 14px\;"><span style="font-family: verdana\;"><strong>Join us on Wednesday\, June 10 for the June AM Coffee Break hosted by Arijai Aesthetic &amp\; Wellness Center<br />\n8:00 -9:00 AM</strong></span></span><br />\n<br />\n&nbsp\;
LOCATION:150 E Travelers Trail Burnsville\, MN 55337
UID:e.411.666949
SEQUENCE:3
DTSTAMP:20260424T155745Z
URL:https://members.burnsvillechamber.com/events/details/2015-june-am-coffee-break-arijai-aesthetic-and-wellness-center-06-10-2015-666949
END:VEVENT

END:VCALENDAR
