BEGIN:VCALENDAR
VERSION:2.0
PRODID:-//ChamberMaster//Event Calendar 2.0//EN
METHOD:PUBLISH
X-PUBLISHED-TTL:P3D
REFRESH-INTERVAL:P3D
CALSCALE:GREGORIAN
BEGIN:VEVENT
DTSTART:20150715T130000Z
DTEND:20150715T140000Z
X-MICROSOFT-CDO-ALLDAYEVENT:FALSE
SUMMARY:2015 July AM Coffee Break @ Kingsley Shores
DESCRIPTION:July AM Coffee Break @ Kingsley Shores\n\nStop in and start the day with a good cup of coffee and interesting conversation with your fellow Chamber members.
X-ALT-DESC;FMTTYPE=text/html:<span style="font-size: 16px\;">July AM Coffee Break @ Kingsley Shores</span><br />\n<span style="font-size: 14px\;"><span style="font-family: verdana\;">Stop in and start the day with a good cup of coffee and interesting conversation with your fellow Chamber members.</span></span>
LOCATION:Kingsley Shores Senior Community 16880 Klamath Trail\, Lakeville\, MN 55044 Phone: (952) 435-8002
UID:e.411.666950
SEQUENCE:3
DTSTAMP:20260424T140116Z
URL:https://members.burnsvillechamber.com/events/details/2015-july-am-coffee-break-kingsley-shores-07-15-2015-666950
END:VEVENT

END:VCALENDAR
