BEGIN:VCALENDAR
VERSION:2.0
PRODID:-//ChamberMaster//Event Calendar 2.0//EN
METHOD:PUBLISH
X-PUBLISHED-TTL:P3D
REFRESH-INTERVAL:P3D
CALSCALE:GREGORIAN
BEGIN:VEVENT
DTSTART:20150225T150000Z
DTEND:20150225T163000Z
X-MICROSOFT-CDO-ALLDAYEVENT:FALSE
SUMMARY:2015 Hire Right Workshop
DESCRIPTION:It is well known that just one bad hire can cost an employer greatly. Lost productivity\, adverse morale and the very real potential for litigation\, to name just a few\, can give even a seasoned manager pause when making a hiring decision. \n\n\n\nAnyone seeking to challenge their organization to conduct better interviews and make more effective hiring decisions will benefit from this important educational event.
X-ALT-DESC;FMTTYPE=text/html:<span style="font-family:helvetica\,sans-serif\;"><span style="font-size:11.5pt\;">It is well known that just one&nbsp\;bad hire can cost an&nbsp\;employer greatly. Lost productivity\, adverse morale and the very real potential for litigation\, to name just a few\, can give even a seasoned manager pause when making a hiring decision.&nbsp\;</span></span><br />\n<br />\n<span style="font-family:helvetica\,sans-serif\;"><span style="font-size:11.5pt\;">Anyone seeking to&nbsp\;challenge their organization to&nbsp\;conduct&nbsp\;better&nbsp\;interviews and make more&nbsp\;effective&nbsp\;hiring decisions will benefit from this important educational event.&nbsp\;</span></span>
LOCATION:Kraus Anderson Insurance 420 Gateway Blvd Burnsville\, MN 55337
UID:e.411.666920
SEQUENCE:3
DTSTAMP:20260424T224256Z
URL:https://members.burnsvillechamber.com/events/details/2015-hire-right-workshop-02-25-2015-666920
END:VEVENT

END:VCALENDAR
