BEGIN:VCALENDAR
VERSION:2.0
PRODID:-//ChamberMaster//Event Calendar 2.0//EN
METHOD:PUBLISH
X-PUBLISHED-TTL:P3D
REFRESH-INTERVAL:P3D
CALSCALE:GREGORIAN
BEGIN:VEVENT
DTSTART:20150929T193000Z
DTEND:20150929T233000Z
X-MICROSOFT-CDO-ALLDAYEVENT:FALSE
SUMMARY:2015 Fall Fling Sporting Clay Challenge
DESCRIPTION:2015 Burnsville Chamber Fall Fling\n\nSporting clay Challenge\n\nIf shooting isn't your skill\, but networking with those that do is important for your business\, consider sponsoring a shooting station or choosing from one of the other great sponsorships packages listed below!\n\nDownload Sponsorship Form\n\n\n\nTitle Sponsor - $2000\n\n\n	Two Foursomes\n	Prime logo recognition on event promotion'\n	Prime logo recognition on program at event & banner\n	Prime logo on chamber website\n	Prime logo recognition on social media sites\n	Sign at station with opportunity to staff and network with all shooters\n\n\n\nShooting Sponsor - $1000\n\n\n	One Foursome\n	Logo recognition on event promotion\n	Logo recognition on program at event\n	Logo recognition on chamber website\n	Sign at station with opportunity to staff and network with all shooters\n\n\n\nDinner Sponsor - $750\n\n\n	Two shooters\n	Logo recognition on event promotion\n	Logo recognition on program at event\n	Logo recognition on chamber website\n	Logo recognition on dinner tables\n\nHappy Hour Sponsor - $500\n\n\n	One shooter\n	Name recognition on event promotion\n	Name recognition on program at event\n	Name recognition on chamber website\n	Logo recognition at bar\n\n\n\nStation Sponsor - $100\n\n\n	Name recognition on event promotion\n	Name recognition on program at event\n	Name recognition on chamber website\n	Sign at station with opportunity to staff and network with all shooters\n\nDonate To Raffle\n\n\n	You may also donate a raffle item ($25 or higher) to the raffle. \n\n\n\nBusinesses that are willing to give a prize donation will receive recognition in the event program.\n\n\n\nSporting clays event is rain or shine Cancellations will be accepted up to 5 business days prior to the event (September 22nd)
X-ALT-DESC;FMTTYPE=text/html:<span style="color: rgb(255\, 0\, 0)\;"><span style="font-size: 16px\;"><strong>2015 Burnsville Chamber Fall Fling</strong></span><br />\n<strong><span style="font-size: 14px\;">Sporting clay Challenge</span></strong></span><br />\nIf shooting isn&#39\;t your skill\, but networking with those that do is important for your business\, consider sponsoring a shooting station or choosing from one of the other great sponsorships packages listed below!<br />\n<a href="http://cloud.chambermaster.com/userfiles/UserFiles/chambers/411/File/FallFling-Sponsorship.pdf" target="_blank">Download Sponsorship Form</a><br />\n<br />\n<span style="font-size: 16px\;"><span style="color: rgb(255\, 0\, 0)\;"><strong>Title Sponsor - $2000</strong></span></span>\n\n<ul>\n	<li>Two Foursomes</li>\n	<li><strong>Prime</strong> logo recognition on event promotion&#39\;</li>\n	<li><strong>Prime</strong> logo recognition on program at event &amp\; banner</li>\n	<li><strong>Prime</strong> logo on chamber website</li>\n	<li><strong>Prime</strong> logo recognition on social media sites</li>\n	<li>Sign at station with opportunity to staff and network with all shooters</li>\n</ul>\n<br />\n<span style="font-size: 16px\;"><span style="color: rgb(255\, 0\, 0)\;"><strong>Shooting Sponsor - $1000</strong></span></span>\n\n<ul>\n	<li>One Foursome</li>\n	<li>Logo recognition on event promotion</li>\n	<li>Logo recognition on program at event</li>\n	<li>Logo recognition on chamber website</li>\n	<li>Sign at station with opportunity to staff and network with all shooters</li>\n</ul>\n<br />\n<span style="font-size: 16px\;"><span style="color: rgb(255\, 0\, 0)\;"><strong>Dinner Sponsor - $750</strong></span></span>\n\n<ul>\n	<li>Two shooters</li>\n	<li>Logo recognition on event promotion</li>\n	<li>Logo recognition on program at event</li>\n	<li>Logo recognition on chamber website</li>\n	<li>Logo recognition on dinner tables</li>\n</ul>\n<span style="font-size: 16px\;"><span style="color: rgb(255\, 0\, 0)\;"><strong>Happy Hour Sponsor - $500</strong></span></span>\n\n<ul>\n	<li>One shooter</li>\n	<li>Name recognition on event promotion</li>\n	<li>Name recognition on program at event</li>\n	<li>Name recognition on chamber website</li>\n	<li>Logo recognition at bar</li>\n</ul>\n<br />\n<span style="font-size: 16px\;"><span style="color: rgb(255\, 0\, 0)\;"><strong>Station Sponsor - $100</strong></span></span>\n\n<ul>\n	<li>Name recognition on event promotion</li>\n	<li>Name recognition on program at event</li>\n	<li>Name recognition on chamber website</li>\n	<li>Sign at station with opportunity to staff and network with all shooters</li>\n</ul>\n<span style="font-size: 16px\;"><span style="color: rgb(255\, 0\, 0)\;"><strong>Donate To Raffle</strong></span></span>\n\n<ul>\n	<li>You&nbsp\;may also donate a raffle item ($25 or higher) to the raffle.&nbsp\;</li>\n</ul>\n<br />\n<em>Businesses that are willing to give a prize donation will receive recognition in the event program.<br />\n<br />\n<span style="font-size: 14px\;"><span style="color: rgb(0\, 128\, 0)\;"><strong><span style="font-family: &quot\;Calibri&quot\;\,sans-serif\; mso-fareast-font-family: Calibri\; mso-fareast-theme-font: minor-latin\; mso-bidi-font-family: &quot\;Times New Roman&quot\;\; mso-ansi-language: EN-US\; mso-fareast-language: EN-US\; mso-bidi-language: AR-SA\;">Sporting clays event is rain or shine&hellip\;Cancellations will be accepted up to 5 business days prior to the event (September 22<sup>nd</sup>)</span></strong></span></span></em>
LOCATION:Minnesota Horse and Hunt Club 2920 east 220th Street Prior Lake\, MN 55372
UID:e.411.666980
SEQUENCE:3
DTSTAMP:20260424T103331Z
URL:https://members.burnsvillechamber.com/events/details/2015-fall-fling-sporting-clay-challenge-09-29-2015-666980
END:VEVENT

END:VCALENDAR
