BEGIN:VCALENDAR
VERSION:2.0
PRODID:-//ChamberMaster//Event Calendar 2.0//EN
METHOD:PUBLISH
X-PUBLISHED-TTL:P3D
REFRESH-INTERVAL:P3D
CALSCALE:GREGORIAN
BEGIN:VEVENT
DTSTART:20151104T230000Z
DTEND:20151105T010000Z
X-MICROSOFT-CDO-ALLDAYEVENT:FALSE
SUMMARY:2015 County Wide Chamber Expo & Business After Hours
DESCRIPTION:County Wide Chamber Business After Hours & Chamber Expo\n\nWednesday\, November 4\, 2015 from 5:00 pm - 7:00 pm\n\n\n\nJoin us at Mendakota Country Club to connect with chamber members from all the Chambers of Commerce throughout Dakota County.  The event includes a cash bar\, complimentary hors d'oeuvres and exhibits by members from the participating chambers.\n\n\n\nBooth Space Pricing:\n\n1/2 of an 8' skirted table - $90\n\n8' skirted table - $150\n\nFree standing display - $150\n\n\n\nPlease specify if you need electricity for your booth.  Vendors are asked to provide their own signage.  You will be standing in front of your booth\, so no chairs are necessary.  To reserve your space\, please fax or email the form below to your local Chamber by Friday\, October 24th.  We hope to see you there!  Electrical connection sponsored by Dakota Electric Association.\n\n\n\nVendor Registration\n\n\n\nHosted by the six Dakota County Chambers of Commerce\n\n \n\n	Apple Valley Chamber of Commerce\n	Burnsville Chamber of Commerce\n	Dakota County Regional Chamber of Commerce\n	Hastings Area Chamber of Commerce\n	Lakeville Area Chamber of Commerce\n	River Heights Chamber of Commerce\n\nReminder\, there is a County Wide Speed Networking event immediately before the Business After Hours and Chamber Expo.  Space is limited so if you haven't registered yet\, do it now.\n\n\n\nCountry Wide Speed Networking\n\n4:00 pm - 5:00 pm\n\nRegistration:
X-ALT-DESC;FMTTYPE=text/html:<span style="font-size: 14px\;"><strong>County Wide Chamber Business After Hours &amp\; Chamber Expo<br />\nWednesday\, November 4\, 2015 from 5:00 pm - 7:00 pm</strong></span><br />\n<br />\nJoin us at Mendakota Country Club to connect with chamber members from all the Chambers of Commerce throughout Dakota County.&nbsp\; The event includes a cash bar\, complimentary hors d&#39\;oeuvres and exhibits by members from the participating chambers.<br />\n<br />\nBooth Space Pricing:<br />\n1/2 of an 8&#39\; skirted table - $90<br />\n8&#39\; skirted table - $150<br />\nFree standing display - $150<br />\n<br />\nPlease specify if you need electricity for your booth.&nbsp\; Vendors are asked to provide their own signage.&nbsp\; You will be standing in front of your booth\, so no chairs are necessary.&nbsp\; <strong>To reserve your space\, please fax or email the form below to your local Chamber by Friday\, October 24th</strong>.&nbsp\; We hope to see you there!&nbsp\; Electrical connection sponsored by <em><strong>Dakota Electric Association.</strong></em><br />\n<br />\n<a href="http://cloud.chambermaster.com/userfiles/UserFiles/chambers/411/File/County-wideAfterHoursFlyer2015.pdf" target="_blank">Vendor Registration</a><br />\n<br />\nHosted by the six Dakota County Chambers of Commerce<br />\n&nbsp\;\n<ul>\n	<li>Apple Valley Chamber of Commerce</li>\n	<li>Burnsville Chamber of Commerce</li>\n	<li>Dakota County Regional Chamber of Commerce</li>\n	<li>Hastings Area Chamber of Commerce</li>\n	<li>Lakeville Area Chamber of Commerce</li>\n	<li>River Heights Chamber of Commerce</li>\n</ul>\nReminder\, there is a County Wide Speed Networking event immediately before the Business After Hours and Chamber Expo.&nbsp\; <strong>Space is limited so if you haven&#39\;t registered yet\, do it now.</strong><br />\n<br />\nCountry Wide Speed Networking<br />\n4:00 pm - 5:00 pm<br />\n<a href="http://members.burnsvillechamber.com/events/details/2015-county-wide-chamber-speed-networking-event-666987" target="_blank">Registration:</a><br />\n&nbsp\;
LOCATION:Mendakota Country Club 2075 Mendakota Road Mendota Heights\, MN 55120 View A Map
UID:e.411.666988
SEQUENCE:3
DTSTAMP:20260424T064242Z
URL:https://members.burnsvillechamber.com/events/details/2015-county-wide-chamber-expo-business-after-hours-11-04-2015-666988
END:VEVENT

END:VCALENDAR
