BEGIN:VCALENDAR
VERSION:2.0
PRODID:-//ChamberMaster//Event Calendar 2.0//EN
METHOD:PUBLISH
X-PUBLISHED-TTL:P3D
REFRESH-INTERVAL:P3D
CALSCALE:GREGORIAN
BEGIN:VEVENT
DTSTART:20150303T163000Z
DTEND:20150303T230000Z
X-MICROSOFT-CDO-ALLDAYEVENT:FALSE
SUMMARY:2015 Business Day NOT at the Capitol
DESCRIPTION:The State Capitol is under construction\, so we are bringing the lawmakers to you. The Minnesota Chamber of Commerce hosts Business Day NOT at the Capitol.  This event provides all sizes and types of Minnesota companies the opportunity to see your legislators and influence public policy decisions. It's a great opportunity for you   and all your employees   to gain an understanding of how legislative decisions have an impact on your company's ability to grow and succeed in Minnesota. Join your peers from Burnsville\, and across the state\, while focusing on challenges facing your community and region. Speak with one voice on the issues that will help strengthen the business environment.\n\n\n\nAGENDA\n\n9:00 a.m. Registration Open | Networking\n\n \n\n9:30 a.m. Optional Session: Lobby 101: How to be the most effective advocate for your issues - Bill Blazar\, interim president\, Minnesota Chamber of Commerce\n\n \n\n10:30 a.m. Welcome & Key Messages for 2015 Business Priorities - Attendees will receive written materials outlining each priority.\n\n \n\n11:00 a.m. Keynote Address - Tom O'Neill\, president\, The Nerdery\n\n \n\n11:45 a.m. Lunch\n\n \n\n12:30 p.m. Governor Address - Governor Mark Dayton - Invited\n\n \n\n12:45 p.m. Break\n\n \n\n12:45 - 4:35 p.m. Hot Topics - In between appointments\, stop by one of these "hot topic" sessions for an update on key issues.\n\n\n\n12:45 - 1:15 p.m. | Session 1 - Construction/Renovation of the Capitol \n\nCapitol History: Brian Pease\, historic site manager\, Minnesota Historical Society\n\nRenovation Update: Curt Yoakum\, assistant commissioner\, communications & planning\, Minnesota Department of Administration\n\n \n\n1:25 - 1:55 p.m. | Session 2 - Transportation: Representative Tim Kelly (R-Red Wing) \n\n \n\n2:05 - 2:35 p.m. | Session 3 - Taxes: TBD\n\n \n\n2:45 - 3:15 p.m. | Session 4 - Health Care: Senator Vicki Jensen (DFL-Owatonna)  \n\n \n\n3:25 - 3:55 p.m. | Session 5 - Education: Representative Sondra Erickson (R-Princeton)\n\n \n\n4:05 - 4:35 p.m. | Session 6 - Environment: Senator Bev Scalze (DFL Little Canada) \n\n \n\n1:00 - 4:00 p.m. Appointments with Legislators\n\nWe will bring the Capitol to you! Appointments will be designated by regional area of the state. All attendees will receive a legislator appointment time and location at check-in for all pre-scheduled appointments made by the chamber.\n\n \n\n4:00 - 5:30 p.m. Networking Social\n\nWe want to know how your day of lobbying went\, so stay for a refreshment and some camaraderie while sharing your success story of the day. Refreshments and light appetizers will be served.\n\n \n\n5:30 p.m. Adjourn
X-ALT-DESC;FMTTYPE=text/html:<span style="color:black\;"><span style="font-family:helvetica\,sans-serif\;"><span style="font-size:15.0pt\;"><span style="font-family:tahoma\;"><span style="font-size:14px\;">The State Capitol is under construction\, so we are bringing the lawmakers to you.</span></span>&nbsp\;</span></span></span><span style="font-size:14px\;"><span style="font-family:tahoma\;"><span style="color: rgb(0\, 0\, 0)\; line-height: 24.7000007629395px\;">The Minnesota Chamber of Commerce hosts&nbsp\;Business Day NOT at the Capitol. &nbsp\;This event&nbsp\;provides all sizes and types of Minnesota companies the opportunity to see your legislators and influence public policy decisions. </span></span></span><span style="color:black\;"><span style="font-family:helvetica\,sans-serif\;"><span style="font-size:15.0pt\;"><span style="font-size:14px\;"><span style="font-family:tahoma\;">It&rsquo\;s a great opportunity for you &ndash\; <strong>and all your employees</strong> &ndash\; to gain an understanding of how legislative decisions have an impact on your company&rsquo\;s ability to grow and succeed in Minnesota.</span></span>&nbsp\;</span></span></span><span style="font-size:14px\;"><span style="font-family:tahoma\;"><span style="color: rgb(0\, 0\, 0)\; line-height: 24.7000007629395px\;">Join your peers from Burnsville\, and across the state\, while focusing on challenges facing your community and region. Speak with one voice on the issues that will help strengthen the business environment.</span></span></span><br />\n<br />\n<strong>AGENDA</strong><br />\n<strong>9:00 a.m. Registration Open |&nbsp\;Networking</strong><br />\n&nbsp\;<br />\n<strong>9:30 a.m. Optional Session: Lobby&nbsp\;101: How to be the most effective advocate for your issues -&nbsp\;</strong><em>Bill Blazar\, interim president\,&nbsp\;Minnesota Chamber of Commerce</em><br />\n&nbsp\;<br />\n<strong>10:30 a.m. Welcome &amp\; Key Messages for 2015&nbsp\;Business Priorities -&nbsp\;</strong>Attendees will receive written materials outlining each priority.<br />\n&nbsp\;<br />\n<strong>11:00 a.m. Keynote Address -&nbsp\;</strong><em>Tom O&#39\;Neill\, president\, The Nerdery</em><br />\n&nbsp\;<br />\n<strong>11:45&nbsp\;a.m. Lunch</strong><br />\n&nbsp\;<br />\n<strong>12:30&nbsp\;p.m.&nbsp\;Governor Address -&nbsp\;</strong><em>Governor Mark Dayton - Invited</em><br />\n&nbsp\;<br />\n<strong>12:45&nbsp\;p.m. Break</strong><br />\n&nbsp\;<br />\n<strong>12:45 -&nbsp\;4:35 p.m. Hot Topics -&nbsp\;</strong>In between appointments\, stop by one of these &quot\;hot topic&quot\; sessions for an update on key issues.<br />\n<br />\n<strong>12:45&nbsp\;-&nbsp\;1:15 p.m. | Session 1 -&nbsp\;</strong>Construction/Renovation of the Capitol&nbsp\;<br />\n<em>Capitol History: Brian Pease\, historic site manager\, Minnesota Historical Society<br />\nRenovation Update: Curt Yoakum\, assistant commissioner\, communications &amp\;&nbsp\;planning\, Minnesota Department of Administration</em><br />\n&nbsp\;<br />\n<strong>1:25 - 1:55 p.m. | Session 2 -&nbsp\;</strong>Transportation:&nbsp\;<em>Representative Tim Kelly (R-Red Wing)&nbsp\;</em><br />\n&nbsp\;<br />\n<strong>2:05 - 2:35 p.m. | Session 3 -&nbsp\;</strong>Taxes: TBD<br />\n&nbsp\;<br />\n<strong>2:45&nbsp\;- 3:15 p.m. |&nbsp\;Session 4 -&nbsp\;</strong>Health Care:&nbsp\;<em>Senator Vicki Jensen (DFL-Owatonna)</em>&nbsp\;&nbsp\;<br />\n&nbsp\;<br />\n<strong>3:25 -&nbsp\;3:55 p.m. |&nbsp\;Session 5 -&nbsp\;</strong>Education:&nbsp\;<em>Representative Sondra Erickson (R-Princeton)</em><br />\n&nbsp\;<br />\n<strong>4:05 -&nbsp\;4:35 p.m. | Session 6 -&nbsp\;</strong>Environment:&nbsp\;<em>Senator Bev Scalze (DFL&ndash\;Little Canada)&nbsp\;</em><br />\n&nbsp\;<br />\n<strong>1:00&nbsp\;- 4:00&nbsp\;p.m. Appointments with Legislators</strong><br />\nWe will bring the Capitol to you!&nbsp\;Appointments will be designated by regional area of the state.&nbsp\;All attendees will receive a legislator appointment time and location at check-in for all pre-scheduled appointments made by the chamber.<br />\n&nbsp\;<br />\n<strong>4:00 - 5:30 p.m. Networking Social</strong><br />\nWe want to know how your day of lobbying went\, so stay for a refreshment and some camaraderie while sharing your success story of the day. Refreshments and light appetizers will be served.<br />\n&nbsp\;<br />\n<strong>5:30 p.m. Adjourn</strong><br />\n&nbsp\;
LOCATION:Crowne Plaza St. Paul-Riverfront Great River Ballroom 11 East Kellogg Boulevard St. Paul\, MN
UID:e.411.666918
SEQUENCE:3
DTSTAMP:20260424T210656Z
URL:https://members.burnsvillechamber.com/events/details/2015-business-day-not-at-the-capitol-03-03-2015-666918
END:VEVENT

END:VCALENDAR
