BEGIN:VCALENDAR
VERSION:2.0
PRODID:-//ChamberMaster//Event Calendar 2.0//EN
METHOD:PUBLISH
X-PUBLISHED-TTL:P3D
REFRESH-INTERVAL:P3D
CALSCALE:GREGORIAN
BEGIN:VEVENT
DTSTART:20150826T210000Z
DTEND:20150827T000000Z
X-MICROSOFT-CDO-ALLDAYEVENT:FALSE
SUMMARY:2015 August Speed Networking Event
DESCRIPTION:2015 Speed Networking Event\n\n \nSpeed Networking is a structured\, effective and fast-paced event where participants have the opportunities to speak face-to-face with multiple business representatives\, one to three minutes at a time.  Don't miss this opportunity to meet more people than you would meet in the same amount of time in an unstructured setting.\n\nSponsored by the Burnsville Chamber Ambassador Committee\n\n \n\nGET NETWORKING\, GET CONNECTED\, \n\nGET TALKING!\n\n4 pm - 5 pm Speed Networking\n\n5 pm - 7 pm Open Networking\n\nPlease note that this is a free to attend event but registration is required by Aug. 17 due to limited space
X-ALT-DESC;FMTTYPE=text/html:<span style="font-size: 16px\;"><span style="color: rgb(0\, 0\, 0)\;"><strong>2015 Speed Networking Event</strong></span></span><br />\n&nbsp\;\n<p _mce_style="text-align: center\; margin-top: 0px\; margin-bottom: 0px\;" style="text-align: center\; margin-top: 0px\; margin-bottom: 0px\;">Speed Networking is a structured\, effective and fast-paced event where participants have the opportunities to speak face-to-face with multiple business representatives\, one to three minutes at a time.&nbsp\; Don&#39\;t miss this opportunity to meet more people than you would meet in the same amount of time in an unstructured setting.<br />\n<strong><em>Sponsored by the Burnsville Chamber Ambassador Committee</em></strong></p>\n\n<p _mce_style="text-align: center\; margin-top: 0px\; margin-bottom: 0px\;" style="text-align: center\; margin-top: 0px\; margin-bottom: 0px\;">&nbsp\;</p>\n\n<p _mce_style="text-align: center\; font-size: 14pt\; margin-top: 0px\; margin-bottom: 0px\;" style="text-align: center\; font-size: 14pt\; margin-top: 0px\; margin-bottom: 0px\;"><strong><em>GET NETWORKING\, GET CONNECTED\, </em></strong></p>\n\n<p _mce_style="text-align: center\; font-size: 14pt\; margin-top: 0px\; margin-bottom: 0px\;" style="text-align: center\; font-size: 14pt\; margin-top: 0px\; margin-bottom: 0px\;"><strong><em>GET TALKING!</em><br />\n4 pm - 5 pm Speed Networking</strong><br />\n<strong>5 pm -&nbsp\;7 pm Open Networking<br />\nPlease note that this is a free to attend event but registration is required by Aug. 17 due to limited space</strong></p>\n
LOCATION:Porter Creek 14201 Burngarten Drive Burnsville\, Minnesota 55306
UID:e.411.666957
SEQUENCE:3
DTSTAMP:20260424T121619Z
URL:https://members.burnsvillechamber.com/events/details/2015-august-speed-networking-event-08-26-2015-666957
END:VEVENT

END:VCALENDAR
