BEGIN:VCALENDAR
VERSION:2.0
PRODID:-//ChamberMaster//Event Calendar 2.0//EN
METHOD:PUBLISH
X-PUBLISHED-TTL:P3D
REFRESH-INTERVAL:P3D
CALSCALE:GREGORIAN
BEGIN:VEVENT
DTSTART:20150812T130000Z
DTEND:20150812T140000Z
X-MICROSOFT-CDO-ALLDAYEVENT:FALSE
SUMMARY:2015 August AM Coffee Break @ Device Pitstop
DESCRIPTION:Start your day off right at Device Pitstop with a good cup of coffee and great conversation.
X-ALT-DESC;FMTTYPE=text/html:<br />\n<span style="color: rgb(0\, 255\, 0)\;"><strong><span style="font-family: verdana\;"><span style="font-size: 16px\;">Start your day off right at Device Pitstop with a good cup of coffee and great conversation.</span></span></strong></span>
LOCATION:1603 County Road 42 W Burnsville\, Minnesota 55306 952-303-5663
UID:e.411.666954
SEQUENCE:3
DTSTAMP:20260424T121656Z
URL:https://members.burnsvillechamber.com/events/details/2015-august-am-coffee-break-device-pitstop-08-12-2015-666954
END:VEVENT

END:VCALENDAR
