BEGIN:VCALENDAR
VERSION:2.0
PRODID:-//ChamberMaster//Event Calendar 2.0//EN
METHOD:PUBLISH
X-PUBLISHED-TTL:P3D
REFRESH-INTERVAL:P3D
CALSCALE:GREGORIAN
BEGIN:VEVENT
DTSTART:20150408T130000Z
DTEND:20150408T140000Z
X-MICROSOFT-CDO-ALLDAYEVENT:FALSE
SUMMARY:2015 April AM Coffee Break @ Visiting Angels
DESCRIPTION:Come on out for the April AM Coffee Break hosted by Visiting Angels!
X-ALT-DESC;FMTTYPE=text/html:Come on out for the April AM Coffee Break hosted by Visiting Angels!
LOCATION:Visiting Angels 500 E Travelers Trail Burnsville MN 55337
UID:e.411.666930
SEQUENCE:3
DTSTAMP:20260424T193715Z
URL:https://members.burnsvillechamber.com/events/details/2015-april-am-coffee-break-visiting-angels-04-08-2015-666930
END:VEVENT

END:VCALENDAR
