BEGIN:VCALENDAR
VERSION:2.0
PRODID:-//ChamberMaster//Event Calendar 2.0//EN
METHOD:PUBLISH
X-PUBLISHED-TTL:P3D
REFRESH-INTERVAL:P3D
CALSCALE:GREGORIAN
BEGIN:VEVENT
DTSTART:20150416T213000Z
DTEND:20150416T233000Z
X-MICROSOFT-CDO-ALLDAYEVENT:FALSE
SUMMARY:2015 Annual Lakeview Bank Legacy Awards @ Lakeview Bank
DESCRIPTION:Join us for a special evening at Lakeview Bank!\n\n\n\nLakeview Bank created its Legacy Award to recognize and honor members of our community who exhibit the core values embraced by the Lakeview Bank.  Through their personal and professional lives\, these people demonstrate integrity\, honesty\, respect\, service\, attitude and professionalism.\n\n\n\nMore info can be found on the Lakeview Bank website - http://www.lakeview-bank.com/pages/legacyAward.htm\n\n\n\nFree to attend.  No RSVP required.
X-ALT-DESC;FMTTYPE=text/html:Join us for a special evening at Lakeview Bank!<br />\n<br />\nLakeview Bank created its Legacy Award to recognize and honor members of our community who exhibit the core values embraced by the Lakeview Bank.&nbsp\; Through their personal and professional lives\, these people demonstrate integrity\, honesty\, respect\, service\, attitude and professionalism.<br />\n<br />\nMore info can be found on the Lakeview Bank website - <a href="http://www.lakeview-bank.com/pages/legacyAward.htm">http://www.lakeview-bank.com/pages/legacyAward.htm<br />\n<br />\nFree</a> to attend.&nbsp\; No RSVP required.
LOCATION:Lakeview Bank 9725 163rd Street West Lakeville\, MN
UID:e.411.666933
SEQUENCE:3
DTSTAMP:20260424T193649Z
URL:https://members.burnsvillechamber.com/events/details/2015-annual-lakeview-bank-legacy-awards-lakeview-bank-04-16-2015-666933
END:VEVENT

END:VCALENDAR
