BEGIN:VCALENDAR
VERSION:2.0
PRODID:-//ChamberMaster//Event Calendar 2.0//EN
METHOD:PUBLISH
X-PUBLISHED-TTL:P3D
REFRESH-INTERVAL:P3D
CALSCALE:GREGORIAN
BEGIN:VEVENT
DTSTART:20140212T173000Z
DTEND:20140212T190000Z
X-MICROSOFT-CDO-ALLDAYEVENT:FALSE
SUMMARY:2014 State of the City Luncheon
DESCRIPTION:2014 State of the City Luncheon\n\n	 \n\n	Featured Speaker: Mayor Elizabeth Kautz\n\n	 \n\n	\n		Hear directly from Mayor Elizabeth Kautz at the annual Burnsville State of the City Address. The keynote presentation will focus on the future for the city and include a 2013 Year in Review. Attend and learn more about the city where you live and work.\n\n		\n\n		Contact the Chamber office to register at 952-435-6000 or jina@burnsvillechamber.com.
X-ALT-DESC;FMTTYPE=text/html:<div>\n	<span style="font-size: small\;"><strong>2014 State of the City Luncheon</strong></span></div>\n<div>\n	&nbsp\;</div>\n<div>\n	Featured Speaker: <em>Mayor Elizabeth Kautz</em></div>\n<div>\n	&nbsp\;</div>\n<div>\n	<p style="margin-top: 0px\; margin-bottom: 0px\;">\n		<span><span>Hear directly from Mayor Elizabeth Kautz at the annual Burnsville State of the City Address. The keynote presentation will focus on the future for the city and include a 20</span><span><span>13</span><span> Year in Review. Attend and learn more about the city where you live and work.<br />\n		<br />\n		Contact the Chamber office to register at 952-435-6000 or <a shape="rect">jina@burnsvillechamber.com</a><span>. </span></span></span></span></p>\n</div>\n
LOCATION:Performing Arts Center 12600 Nicollet Avenue Burnsville\, MN 55337
UID:e.411.666743
SEQUENCE:3
DTSTAMP:20260425T193816Z
URL:https://members.burnsvillechamber.com/events/details/2014-state-of-the-city-luncheon-02-12-2014-666743
END:VEVENT

END:VCALENDAR
