BEGIN:VCALENDAR
VERSION:2.0
PRODID:-//ChamberMaster//Event Calendar 2.0//EN
METHOD:PUBLISH
X-PUBLISHED-TTL:P3D
REFRESH-INTERVAL:P3D
CALSCALE:GREGORIAN
BEGIN:VEVENT
DTSTART:20140424T220000Z
DTEND:20140425T023000Z
X-MICROSOFT-CDO-ALLDAYEVENT:FALSE
SUMMARY:2014 Minnesota Women Business Owners Hall of Fame Event
DESCRIPTION:Induction Celebration of 12 Outstanding Women Into the Minnesota Women Business Owners Hall of Fame
X-ALT-DESC;FMTTYPE=text/html:Induction Celebration of 12 Outstanding Women Into the Minnesota Women Business Owners Hall of Fame
LOCATION:15407 McGinty Road West Wayzata\, MN 55391
UID:e.411.666760
SEQUENCE:3
DTSTAMP:20260425T163810Z
URL:https://members.burnsvillechamber.com/events/details/2014-minnesota-women-business-owners-hall-of-fame-event-04-24-2014-666760
END:VEVENT

END:VCALENDAR
