BEGIN:VCALENDAR
VERSION:2.0
PRODID:-//ChamberMaster//Event Calendar 2.0//EN
METHOD:PUBLISH
X-PUBLISHED-TTL:P3D
REFRESH-INTERVAL:P3D
CALSCALE:GREGORIAN
BEGIN:VEVENT
DTSTART:20141113T220000Z
DTEND:20141114T010000Z
X-MICROSOFT-CDO-ALLDAYEVENT:FALSE
SUMMARY:2014 County Wide Multi-Chamber Speed Networking & Small Business Expo
DESCRIPTION:Are you interested in gathering quality leads in a unique and exciting Speed Networking event where you will identify your hot leads during the event?\n\n\n\nJoin us at Mendakota Country Club prior to the County Wide Chamber Small Business Expo & Business After Hours event for an hour long speed networking session! \n\n\n\nSign up for this speed networking event  and you will receive a couple of videos to help you prepare for this session and ensure that you receive the greatest return on your investment.  The first video will help you craft the best 30 second defining statement describing your business and the second video will educate you on how to identify your prospects.\n\n\n\nThe Small Business Expo and Business After Hours includes a cash bar\, complimentary hors d'oeuvres and exhibits by members from the participating chambers - Burnsville\, Apple Valley\, Dakota County Regional\, Hastings\, Lakeville & River Heights.\n\n\n\nSponsored by Dakota Electric Association.
X-ALT-DESC;FMTTYPE=text/html:Are you interested in gathering quality leads in a unique and exciting Speed Networking event where you will identify your hot leads during the event?<br />\n<br />\nJoin us at Mendakota Country Club prior to the County Wide Chamber Small Business Expo &amp\; Business After Hours event for an hour long speed networking session!&nbsp\;<br />\n<br />\nSign up for this speed networking event&nbsp\; and you will receive a couple of videos to help you prepare for this session and ensure that you receive the greatest return on your investment.&nbsp\; The first video will help you craft the best 30 second defining statement describing your business and the second video will educate you on how to identify your prospects.<br />\n<br />\nThe Small Business Expo and Business After Hours includes a cash bar\, complimentary hors d&#39\;oeuvres and exhibits by members from the participating chambers - Burnsville\, Apple Valley\, Dakota County Regional\, Hastings\, Lakeville &amp\; River Heights.<br />\n<br />\n<strong>Sponsored by Dakota Electric Association.</strong>
LOCATION:Mendakota Country Club 2075 Mendakota Road Mendota Heights\, MN
UID:e.411.666882
SEQUENCE:3
DTSTAMP:20260425T035531Z
URL:https://members.burnsvillechamber.com/events/details/2014-county-wide-multi-chamber-speed-networking-small-business-expo-11-13-2014-666882
END:VEVENT

END:VCALENDAR
