BEGIN:VCALENDAR
VERSION:2.0
PRODID:-//ChamberMaster//Event Calendar 2.0//EN
METHOD:PUBLISH
X-PUBLISHED-TTL:P3D
REFRESH-INTERVAL:P3D
CALSCALE:GREGORIAN
BEGIN:VEVENT
DTSTART:20140423T123000Z
DTEND:20140423T140000Z
X-MICROSOFT-CDO-ALLDAYEVENT:FALSE
SUMMARY:2014 April SMYPros - Professional Development in Leadership
DESCRIPTION:Attend a fun morning meeting with really fun people! Join other young professionals at the Ames Center to hear speaker Jon Schmidt share his story of summiting Mount Rainier with his father and their incredible life lessons learned along the way.
X-ALT-DESC;FMTTYPE=text/html:<div style="color: gray\;">Attend a fun morning meeting with really fun people! Join other young professionals at the Ames Center to hear speaker Jon Schmidt share his story of summiting Mount Rainier with his father and their incredible life lessons learned along the way.</div>\n
LOCATION:Ames Center (formerly Burnsville Performing Arts Center) 12600 Nicollet Avenue Burnsville\, MN
UID:e.411.666775
SEQUENCE:3
DTSTAMP:20260425T163133Z
URL:https://members.burnsvillechamber.com/events/details/2014-april-smypros-professional-development-in-leadership-04-23-2014-666775
END:VEVENT

END:VCALENDAR
