BEGIN:VCALENDAR
VERSION:2.0
PRODID:-//ChamberMaster//Event Calendar 2.0//EN
METHOD:PUBLISH
X-PUBLISHED-TTL:P3D
REFRESH-INTERVAL:P3D
CALSCALE:GREGORIAN
BEGIN:VEVENT
DTSTART:20140123T170000Z
DTEND:20140123T190000Z
X-MICROSOFT-CDO-ALLDAYEVENT:FALSE
SUMMARY:2014 Annual Membership Luncheon
DESCRIPTION:Help us celebrate the Burnsville Chamber as we recognize our volunteers who keep our organization moving forward.  We will honor our Volunteer of the Year\, Ambassador of the Year\, committee chairs as well as our outgoing Board members and new Board members.\n\n	\n\n	Our special guest speaker is Bill Blazar\, Sr. VP of Public Affairs and Business Development at the Minnesota Chamber of Commerce. Based on Grow Minnesota data collected from over 1000 business visits across the state in 2013\, Bill will show you current business trends that will help you identify how Minnesota's economy is changing.\n\n	\n\n	The Agenda\n\n	\n\n	11:00 am        Registration\n\n	11:30 am        Lunch\n\n	12:00 pm        Annual Meeting and Volunteer Recognition\n\n	12:30 pm        Speaker\n\n	1:00 pm          Conclude\n\n	\n\n	The menu includes:\n\n	Garden Salad\n\n	Chicken Breast w/white sauce\n\n	Lasagna\n\n	Green Bean Almondine
X-ALT-DESC;FMTTYPE=text/html:<p style="margin-top: 0px\; margin-bottom: 0px\;">\n	<span><span style="font-size: 10.5pt\;"><span style="font-family: arial\, sans-serif\;">Help us celebrate the Burnsville Chamber as we recognize our volunteers who keep our organization moving forward.&nbsp\; We will honor our Volunteer of the Year\, Ambassador of the Year\, committee chairs as well as our outgoing Board members and new Board members.</span></span><br />\n	<br />\n	<span style="color: black\;"><span style="color: black\; font-family: &quot\;Tahoma&quot\;\,&quot\;sans-serif&quot\;\; font-size: 10.5pt\; mso-fareast-language: EN-US\; mso-fareast-font-family: &quot\;Times New Roman&quot\;\; mso-ansi-language: EN-US\; mso-bidi-language: AR-SA\;">Our special guest speaker is Bill Blazar\, Sr. VP of Public Affairs and Business Development at the Minnesota Chamber of Commerce. Based on Grow Minnesota data collected from over 1000 business visits across the state in 2013\, Bill will show you current business trends that will help you identify how Minnesota&rsquo\;s economy is changing.</span><br />\n	<br />\n	<strong><u><span style="font-family: arial\, sans-serif\;"><span style="color: black\; font-family: &quot\;Tahoma&quot\;\,&quot\;sans-serif&quot\;\; font-size: 10.5pt\; mso-fareast-language: EN-US\; mso-fareast-font-family: &quot\;Times New Roman&quot\;\; mso-ansi-language: EN-US\; mso-bidi-language: AR-SA\;"><strong><u>The Agenda</u></strong></span></span></u></strong></span><br />\n	<br />\n	<span style="color: black\; font-family: &quot\;Tahoma&quot\;\,&quot\;sans-serif&quot\;\; font-size: 10.5pt\; mso-fareast-language: EN-US\; mso-fareast-font-family: &quot\;Times New Roman&quot\;\; mso-ansi-language: EN-US\; mso-bidi-language: AR-SA\;">11:00 am &nbsp\;&nbsp\;&nbsp\;&nbsp\;&nbsp\;&nbsp\; Registration<br />\n	11:30 am&nbsp\;&nbsp\;&nbsp\;&nbsp\;&nbsp\;&nbsp\;&nbsp\; Lunch<br />\n	12:00 pm&nbsp\;&nbsp\;&nbsp\;&nbsp\;&nbsp\;&nbsp\;&nbsp\; Annual Meeting and Volunteer Recognition<br />\n	12:30 pm&nbsp\;&nbsp\;&nbsp\;&nbsp\;&nbsp\;&nbsp\;&nbsp\; Speaker<br />\n	1:00 pm&nbsp\;&nbsp\;&nbsp\;&nbsp\;&nbsp\;&nbsp\;&nbsp\;&nbsp\;&nbsp\; Conclude<br />\n	<br />\n	<span style="font-family: &quot\;Tahoma&quot\;\,&quot\;sans-serif&quot\;\; font-size: 10.5pt\; mso-fareast-language: EN-US\; mso-fareast-font-family: &quot\;Times New Roman&quot\;\; mso-ansi-language: EN-US\; mso-bidi-language: AR-SA\;"><font color="#000000">The menu includes:<br />\n	Garden Salad<br />\n	Chicken Breast w/white sauce<br />\n	Lasagna<br />\n	Green Bean Almondine</font></span></span></span><br />\n	&nbsp\;</p>\n
LOCATION:Royal Cliff 2280 Cliff Road\, Eagan Click here to edit...
UID:e.411.666568
SEQUENCE:3
DTSTAMP:20260425T213154Z
URL:https://members.burnsvillechamber.com/events/details/2014-annual-membership-luncheon-01-23-2014-666568
END:VEVENT

END:VCALENDAR
