BEGIN:VCALENDAR
VERSION:2.0
PRODID:-//ChamberMaster//Event Calendar 2.0//EN
METHOD:PUBLISH
X-PUBLISHED-TTL:P3D
REFRESH-INTERVAL:P3D
CALSCALE:GREGORIAN
BEGIN:VEVENT
DTSTART:20140602T153000Z
DTEND:20140603T010000Z
X-MICROSOFT-CDO-ALLDAYEVENT:FALSE
SUMMARY:2014 Annual Burnsville Chamber Golf Classic
DESCRIPTION:Enjoy a day out of the office complete with 18 holes of golf at a spectacular course\, networking at the nines\, lunch\, door prizes\, contests & raffles\, all followed by an enjoyable awards banquet.
X-ALT-DESC;FMTTYPE=text/html:Enjoy a day out of the office complete with 18 holes of golf at a spectacular course\, networking at the nines\, lunch\, door prizes\, contests &amp\; raffles\, all followed by an enjoyable awards banquet.
LOCATION:Legends Golf Club 8670 Credit River Boulevard Prior Lake\, MN
UID:e.411.666774
SEQUENCE:3
DTSTAMP:20260425T131222Z
URL:https://members.burnsvillechamber.com/events/details/2014-annual-burnsville-chamber-golf-classic-06-02-2014-666774
END:VEVENT

END:VCALENDAR
